BEGIN:VCALENDAR
VERSION:2.0
PRODID:-//Poco Farm Road Church - ECPv6.9.0//NONSGML v1.0//EN
CALSCALE:GREGORIAN
METHOD:PUBLISH
X-WR-CALNAME:Poco Farm Road Church
X-ORIGINAL-URL:https://pocofarmroadchurch.org
X-WR-CALDESC:Events for Poco Farm Road Church
REFRESH-INTERVAL;VALUE=DURATION:PT1H
X-Robots-Tag:noindex
X-PUBLISHED-TTL:PT1H
BEGIN:VTIMEZONE
TZID:America/New_York
BEGIN:DAYLIGHT
TZOFFSETFROM:-0500
TZOFFSETTO:-0400
TZNAME:EDT
DTSTART:20300310T070000
END:DAYLIGHT
BEGIN:STANDARD
TZOFFSETFROM:-0400
TZOFFSETTO:-0500
TZNAME:EST
DTSTART:20301103T060000
END:STANDARD
END:VTIMEZONE
BEGIN:VEVENT
DTSTART;TZID=America/New_York:20300305T183000
DTEND;TZID=America/New_York:20300305T200000
DTSTAMP:20260423T132613
CREATED:20260402T152125Z
LAST-MODIFIED:20260402T152126Z
UID:30001841-1898965800-1898971200@pocofarmroadchurch.org
SUMMARY:Church Council Meeting
DESCRIPTION:
URL:https://pocofarmroadchurch.org/event/discipleship-council-meeting-2-2/2030-03-05/
ATTACH;FMTTYPE=image/png:https://pocofarmroadchurch.b-cdn.net/wp-content/uploads/2020/11/cropped-favicon.png
END:VEVENT
BEGIN:VEVENT
DTSTART;TZID=America/New_York:20300305T183000
DTEND;TZID=America/New_York:20300305T203000
DTSTAMP:20260423T132613
CREATED:20260402T152639Z
LAST-MODIFIED:20260402T152716Z
UID:30002356-1898965800-1898973000@pocofarmroadchurch.org
SUMMARY:Young Adults Group
DESCRIPTION:Andrew & Jayla Boll have initiated a young adult (college & career) group. They will be meeting each Tuesday night and rotating locations along with Third Street and Hillview Baptist Church. For more info\, you can contact the church office.
URL:https://pocofarmroadchurch.org/event/young-adults-group/2030-03-05/
ATTACH;FMTTYPE=image/jpeg:https://pocofarmroadchurch.b-cdn.net/wp-content/uploads/2026/04/Young-Aduts-Group.jpg
END:VEVENT
BEGIN:VEVENT
DTSTART;TZID=America/New_York:20300306T183000
DTEND;TZID=America/New_York:20300306T193000
DTSTAMP:20260423T132613
CREATED:20251016T165755Z
LAST-MODIFIED:20251016T165756Z
UID:30001676-1899052200-1899055800@pocofarmroadchurch.org
SUMMARY:Prayer Meeting
DESCRIPTION:We are currently meeting virtually for prayer meeting on Zoom. For information about how to join\, please contact the church office at office@pocofarmroadchurch.org.
URL:https://pocofarmroadchurch.org/event/prayer-meeting-2-2-5-2-2/2030-03-06/
LOCATION:Poco Farm Road Church\, 89 Kimble Hill Road\, Williamsport\, 17701\, United States
ATTACH;FMTTYPE=image/jpeg:https://pocofarmroadchurch.b-cdn.net/wp-content/uploads/2024/03/zoom-praryer-meeting.jpg
END:VEVENT
BEGIN:VEVENT
DTSTART;TZID=America/New_York:20300311T183000
DTEND;TZID=America/New_York:20300311T200000
DTSTAMP:20260423T132613
CREATED:20250513T181936Z
LAST-MODIFIED:20250513T182053Z
UID:30001694-1899484200-1899489600@pocofarmroadchurch.org
SUMMARY:Stewardship Committee
DESCRIPTION:
URL:https://pocofarmroadchurch.org/event/stewardship-committee-2/2030-03-11/
ATTACH;FMTTYPE=image/png:https://pocofarmroadchurch.b-cdn.net/wp-content/uploads/2020/11/cropped-gardener-favicon.png
END:VEVENT
BEGIN:VEVENT
DTSTART;TZID=America/New_York:20300312T183000
DTEND;TZID=America/New_York:20300312T203000
DTSTAMP:20260423T132613
CREATED:20260402T152639Z
LAST-MODIFIED:20260402T152716Z
UID:30002357-1899570600-1899577800@pocofarmroadchurch.org
SUMMARY:Young Adults Group
DESCRIPTION:Andrew & Jayla Boll have initiated a young adult (college & career) group. They will be meeting each Tuesday night and rotating locations along with Third Street and Hillview Baptist Church. For more info\, you can contact the church office.
URL:https://pocofarmroadchurch.org/event/young-adults-group/2030-03-12/
ATTACH;FMTTYPE=image/jpeg:https://pocofarmroadchurch.b-cdn.net/wp-content/uploads/2026/04/Young-Aduts-Group.jpg
END:VEVENT
BEGIN:VEVENT
DTSTART;TZID=America/New_York:20300313T183000
DTEND;TZID=America/New_York:20300313T193000
DTSTAMP:20260423T132613
CREATED:20251016T165755Z
LAST-MODIFIED:20251016T165756Z
UID:30001677-1899657000-1899660600@pocofarmroadchurch.org
SUMMARY:Prayer Meeting
DESCRIPTION:We are currently meeting virtually for prayer meeting on Zoom. For information about how to join\, please contact the church office at office@pocofarmroadchurch.org.
URL:https://pocofarmroadchurch.org/event/prayer-meeting-2-2-5-2-2/2030-03-13/
LOCATION:Poco Farm Road Church\, 89 Kimble Hill Road\, Williamsport\, 17701\, United States
ATTACH;FMTTYPE=image/jpeg:https://pocofarmroadchurch.b-cdn.net/wp-content/uploads/2024/03/zoom-praryer-meeting.jpg
END:VEVENT
BEGIN:VEVENT
DTSTART;TZID=America/New_York:20300319T173000
DTEND;TZID=America/New_York:20300319T190000
DTSTAMP:20260423T132613
CREATED:20250527T132620Z
LAST-MODIFIED:20250527T132621Z
UID:30001702-1900171800-1900177200@pocofarmroadchurch.org
SUMMARY:ECLC Advisory Board
DESCRIPTION:Members of PFRC meet to discuss important matters for the ECLC.
URL:https://pocofarmroadchurch.org/event/eclc-advisory-board-3/2030-03-19/
ATTACH;FMTTYPE=image/gif:https://pocofarmroadchurch.b-cdn.net/wp-content/uploads/2024/04/ECLC_Logo_450x155_transparent.gif
END:VEVENT
BEGIN:VEVENT
DTSTART;TZID=America/New_York:20300319T183000
DTEND;TZID=America/New_York:20300319T203000
DTSTAMP:20260423T132613
CREATED:20260402T152639Z
LAST-MODIFIED:20260402T152716Z
UID:30002358-1900175400-1900182600@pocofarmroadchurch.org
SUMMARY:Young Adults Group
DESCRIPTION:Andrew & Jayla Boll have initiated a young adult (college & career) group. They will be meeting each Tuesday night and rotating locations along with Third Street and Hillview Baptist Church. For more info\, you can contact the church office.
URL:https://pocofarmroadchurch.org/event/young-adults-group/2030-03-19/
ATTACH;FMTTYPE=image/jpeg:https://pocofarmroadchurch.b-cdn.net/wp-content/uploads/2026/04/Young-Aduts-Group.jpg
END:VEVENT
BEGIN:VEVENT
DTSTART;TZID=America/New_York:20300320T183000
DTEND;TZID=America/New_York:20300320T193000
DTSTAMP:20260423T132613
CREATED:20251016T165755Z
LAST-MODIFIED:20251016T165756Z
UID:30001678-1900261800-1900265400@pocofarmroadchurch.org
SUMMARY:Prayer Meeting
DESCRIPTION:We are currently meeting virtually for prayer meeting on Zoom. For information about how to join\, please contact the church office at office@pocofarmroadchurch.org.
URL:https://pocofarmroadchurch.org/event/prayer-meeting-2-2-5-2-2/2030-03-20/
LOCATION:Poco Farm Road Church\, 89 Kimble Hill Road\, Williamsport\, 17701\, United States
ATTACH;FMTTYPE=image/jpeg:https://pocofarmroadchurch.b-cdn.net/wp-content/uploads/2024/03/zoom-praryer-meeting.jpg
END:VEVENT
BEGIN:VEVENT
DTSTART;TZID=America/New_York:20300326T183000
DTEND;TZID=America/New_York:20300326T203000
DTSTAMP:20260423T132613
CREATED:20260402T152639Z
LAST-MODIFIED:20260402T152716Z
UID:30002359-1900780200-1900787400@pocofarmroadchurch.org
SUMMARY:Young Adults Group
DESCRIPTION:Andrew & Jayla Boll have initiated a young adult (college & career) group. They will be meeting each Tuesday night and rotating locations along with Third Street and Hillview Baptist Church. For more info\, you can contact the church office.
URL:https://pocofarmroadchurch.org/event/young-adults-group/2030-03-26/
ATTACH;FMTTYPE=image/jpeg:https://pocofarmroadchurch.b-cdn.net/wp-content/uploads/2026/04/Young-Aduts-Group.jpg
END:VEVENT
BEGIN:VEVENT
DTSTART;TZID=America/New_York:20300327T183000
DTEND;TZID=America/New_York:20300327T193000
DTSTAMP:20260423T132613
CREATED:20251016T165755Z
LAST-MODIFIED:20251016T165756Z
UID:30001679-1900866600-1900870200@pocofarmroadchurch.org
SUMMARY:Prayer Meeting
DESCRIPTION:We are currently meeting virtually for prayer meeting on Zoom. For information about how to join\, please contact the church office at office@pocofarmroadchurch.org.
URL:https://pocofarmroadchurch.org/event/prayer-meeting-2-2-5-2-2/2030-03-27/
LOCATION:Poco Farm Road Church\, 89 Kimble Hill Road\, Williamsport\, 17701\, United States
ATTACH;FMTTYPE=image/jpeg:https://pocofarmroadchurch.b-cdn.net/wp-content/uploads/2024/03/zoom-praryer-meeting.jpg
END:VEVENT
END:VCALENDAR