BEGIN:VCALENDAR
VERSION:2.0
PRODID:-//Poco Farm Road Church - ECPv6.9.0//NONSGML v1.0//EN
CALSCALE:GREGORIAN
METHOD:PUBLISH
X-ORIGINAL-URL:https://pocofarmroadchurch.org
X-WR-CALDESC:Events for Poco Farm Road Church
REFRESH-INTERVAL;VALUE=DURATION:PT1H
X-Robots-Tag:noindex
X-PUBLISHED-TTL:PT1H
BEGIN:VTIMEZONE
TZID:America/New_York
BEGIN:DAYLIGHT
TZOFFSETFROM:-0500
TZOFFSETTO:-0400
TZNAME:EDT
DTSTART:20300310T070000
END:DAYLIGHT
BEGIN:STANDARD
TZOFFSETFROM:-0400
TZOFFSETTO:-0500
TZNAME:EST
DTSTART:20301103T060000
END:STANDARD
END:VTIMEZONE
BEGIN:VEVENT
DTSTART;TZID=America/New_York:20301203T183000
DTEND;TZID=America/New_York:20301203T200000
DTSTAMP:20260424T101324
CREATED:20260402T152125Z
LAST-MODIFIED:20260402T152126Z
UID:30002147-1922553000-1922558400@pocofarmroadchurch.org
SUMMARY:Church Council Meeting
DESCRIPTION:
URL:https://pocofarmroadchurch.org/event/discipleship-council-meeting-2-2/2030-12-03/
ATTACH;FMTTYPE=image/png:https://pocofarmroadchurch.b-cdn.net/wp-content/uploads/2020/11/cropped-favicon.png
END:VEVENT
BEGIN:VEVENT
DTSTART;TZID=America/New_York:20301203T183000
DTEND;TZID=America/New_York:20301203T203000
DTSTAMP:20260424T101324
CREATED:20260402T152639Z
LAST-MODIFIED:20260402T152716Z
UID:30002395-1922553000-1922560200@pocofarmroadchurch.org
SUMMARY:Young Adults Group
DESCRIPTION:Andrew & Jayla Boll have initiated a young adult (college & career) group. They will be meeting each Tuesday night and rotating locations along with Third Street and Hillview Baptist Church. For more info\, you can contact the church office.
URL:https://pocofarmroadchurch.org/event/young-adults-group/2030-12-03/
ATTACH;FMTTYPE=image/jpeg:https://pocofarmroadchurch.b-cdn.net/wp-content/uploads/2026/04/Young-Aduts-Group.jpg
END:VEVENT
BEGIN:VEVENT
DTSTART;TZID=America/New_York:20301208T113000
DTEND;TZID=America/New_York:20301208T130000
DTSTAMP:20260424T101324
CREATED:20260319T163513Z
LAST-MODIFIED:20260319T163513Z
UID:30002141-1922959800-1922965200@pocofarmroadchurch.org
SUMMARY:Church Family Business Meeting
DESCRIPTION:Following the service\, we will have a potluck and then a member meeting to discuss pertinent business with for our church. Visitors are welcome to stay for the lunch as well as observe the meeting.
URL:https://pocofarmroadchurch.org/event/church-family-business-meeting-7/2030-12-08/
ATTACH;FMTTYPE=image/png:https://pocofarmroadchurch.b-cdn.net/wp-content/uploads/2024/02/poco-farm-road-church-logo.png
END:VEVENT
BEGIN:VEVENT
DTSTART;TZID=America/New_York:20301210T183000
DTEND;TZID=America/New_York:20301210T203000
DTSTAMP:20260424T101324
CREATED:20260402T152639Z
LAST-MODIFIED:20260402T152716Z
UID:30002396-1923157800-1923165000@pocofarmroadchurch.org
SUMMARY:Young Adults Group
DESCRIPTION:Andrew & Jayla Boll have initiated a young adult (college & career) group. They will be meeting each Tuesday night and rotating locations along with Third Street and Hillview Baptist Church. For more info\, you can contact the church office.
URL:https://pocofarmroadchurch.org/event/young-adults-group/2030-12-10/
ATTACH;FMTTYPE=image/jpeg:https://pocofarmroadchurch.b-cdn.net/wp-content/uploads/2026/04/Young-Aduts-Group.jpg
END:VEVENT
BEGIN:VEVENT
DTSTART;TZID=America/New_York:20301217T183000
DTEND;TZID=America/New_York:20301217T203000
DTSTAMP:20260424T101324
CREATED:20260402T152639Z
LAST-MODIFIED:20260402T152716Z
UID:30002397-1923762600-1923769800@pocofarmroadchurch.org
SUMMARY:Young Adults Group
DESCRIPTION:Andrew & Jayla Boll have initiated a young adult (college & career) group. They will be meeting each Tuesday night and rotating locations along with Third Street and Hillview Baptist Church. For more info\, you can contact the church office.
URL:https://pocofarmroadchurch.org/event/young-adults-group/2030-12-17/
ATTACH;FMTTYPE=image/jpeg:https://pocofarmroadchurch.b-cdn.net/wp-content/uploads/2026/04/Young-Aduts-Group.jpg
END:VEVENT
BEGIN:VEVENT
DTSTART;TZID=America/New_York:20301224T183000
DTEND;TZID=America/New_York:20301224T203000
DTSTAMP:20260424T101324
CREATED:20260402T152639Z
LAST-MODIFIED:20260402T152716Z
UID:30002398-1924367400-1924374600@pocofarmroadchurch.org
SUMMARY:Young Adults Group
DESCRIPTION:Andrew & Jayla Boll have initiated a young adult (college & career) group. They will be meeting each Tuesday night and rotating locations along with Third Street and Hillview Baptist Church. For more info\, you can contact the church office.
URL:https://pocofarmroadchurch.org/event/young-adults-group/2030-12-24/
ATTACH;FMTTYPE=image/jpeg:https://pocofarmroadchurch.b-cdn.net/wp-content/uploads/2026/04/Young-Aduts-Group.jpg
END:VEVENT
BEGIN:VEVENT
DTSTART;TZID=America/New_York:20301231T183000
DTEND;TZID=America/New_York:20301231T203000
DTSTAMP:20260424T101324
CREATED:20260402T152639Z
LAST-MODIFIED:20260402T152716Z
UID:30002399-1924972200-1924979400@pocofarmroadchurch.org
SUMMARY:Young Adults Group
DESCRIPTION:Andrew & Jayla Boll have initiated a young adult (college & career) group. They will be meeting each Tuesday night and rotating locations along with Third Street and Hillview Baptist Church. For more info\, you can contact the church office.
URL:https://pocofarmroadchurch.org/event/young-adults-group/2030-12-31/
ATTACH;FMTTYPE=image/jpeg:https://pocofarmroadchurch.b-cdn.net/wp-content/uploads/2026/04/Young-Aduts-Group.jpg
END:VEVENT
END:VCALENDAR