BEGIN:VCALENDAR
VERSION:2.0
PRODID:-//Poco Farm Road Church - ECPv6.9.0//NONSGML v1.0//EN
CALSCALE:GREGORIAN
METHOD:PUBLISH
X-WR-CALNAME:Poco Farm Road Church
X-ORIGINAL-URL:https://pocofarmroadchurch.org
X-WR-CALDESC:Events for Poco Farm Road Church
REFRESH-INTERVAL;VALUE=DURATION:PT1H
X-Robots-Tag:noindex
X-PUBLISHED-TTL:PT1H
BEGIN:VTIMEZONE
TZID:America/New_York
BEGIN:DAYLIGHT
TZOFFSETFROM:-0500
TZOFFSETTO:-0400
TZNAME:EDT
DTSTART:20290311T070000
END:DAYLIGHT
BEGIN:STANDARD
TZOFFSETFROM:-0400
TZOFFSETTO:-0500
TZNAME:EST
DTSTART:20291104T060000
END:STANDARD
END:VTIMEZONE
BEGIN:VEVENT
DTSTART;TZID=America/New_York:20290425T183000
DTEND;TZID=America/New_York:20290425T193000
DTSTAMP:20260424T190115
CREATED:20251016T165755Z
LAST-MODIFIED:20251016T165756Z
UID:30000591-1871836200-1871839800@pocofarmroadchurch.org
SUMMARY:Prayer Meeting
DESCRIPTION:We are currently meeting virtually for prayer meeting on Zoom. For information about how to join\, please contact the church office at office@pocofarmroadchurch.org.
URL:https://pocofarmroadchurch.org/event/prayer-meeting-2-2-5-2-2/2029-04-25/
LOCATION:Poco Farm Road Church\, 89 Kimble Hill Road\, Williamsport\, 17701\, United States
ATTACH;FMTTYPE=image/jpeg:https://pocofarmroadchurch.b-cdn.net/wp-content/uploads/2024/03/zoom-praryer-meeting.jpg
END:VEVENT
BEGIN:VEVENT
DTSTART;TZID=America/New_York:20290502T183000
DTEND;TZID=America/New_York:20290502T193000
DTSTAMP:20260424T190115
CREATED:20251016T165755Z
LAST-MODIFIED:20251016T165756Z
UID:30000592-1872441000-1872444600@pocofarmroadchurch.org
SUMMARY:Prayer Meeting
DESCRIPTION:We are currently meeting virtually for prayer meeting on Zoom. For information about how to join\, please contact the church office at office@pocofarmroadchurch.org.
URL:https://pocofarmroadchurch.org/event/prayer-meeting-2-2-5-2-2/2029-05-02/
LOCATION:Poco Farm Road Church\, 89 Kimble Hill Road\, Williamsport\, 17701\, United States
ATTACH;FMTTYPE=image/jpeg:https://pocofarmroadchurch.b-cdn.net/wp-content/uploads/2024/03/zoom-praryer-meeting.jpg
END:VEVENT
BEGIN:VEVENT
DTSTART;TZID=America/New_York:20290509T183000
DTEND;TZID=America/New_York:20290509T193000
DTSTAMP:20260424T190115
CREATED:20251016T165755Z
LAST-MODIFIED:20251016T165756Z
UID:30000593-1873045800-1873049400@pocofarmroadchurch.org
SUMMARY:Prayer Meeting
DESCRIPTION:We are currently meeting virtually for prayer meeting on Zoom. For information about how to join\, please contact the church office at office@pocofarmroadchurch.org.
URL:https://pocofarmroadchurch.org/event/prayer-meeting-2-2-5-2-2/2029-05-09/
LOCATION:Poco Farm Road Church\, 89 Kimble Hill Road\, Williamsport\, 17701\, United States
ATTACH;FMTTYPE=image/jpeg:https://pocofarmroadchurch.b-cdn.net/wp-content/uploads/2024/03/zoom-praryer-meeting.jpg
END:VEVENT
BEGIN:VEVENT
DTSTART;TZID=America/New_York:20290516T183000
DTEND;TZID=America/New_York:20290516T193000
DTSTAMP:20260424T190115
CREATED:20251016T165755Z
LAST-MODIFIED:20251016T165756Z
UID:30000594-1873650600-1873654200@pocofarmroadchurch.org
SUMMARY:Prayer Meeting
DESCRIPTION:We are currently meeting virtually for prayer meeting on Zoom. For information about how to join\, please contact the church office at office@pocofarmroadchurch.org.
URL:https://pocofarmroadchurch.org/event/prayer-meeting-2-2-5-2-2/2029-05-16/
LOCATION:Poco Farm Road Church\, 89 Kimble Hill Road\, Williamsport\, 17701\, United States
ATTACH;FMTTYPE=image/jpeg:https://pocofarmroadchurch.b-cdn.net/wp-content/uploads/2024/03/zoom-praryer-meeting.jpg
END:VEVENT
BEGIN:VEVENT
DTSTART;TZID=America/New_York:20290523T183000
DTEND;TZID=America/New_York:20290523T193000
DTSTAMP:20260424T190115
CREATED:20251016T165755Z
LAST-MODIFIED:20251016T165756Z
UID:30000595-1874255400-1874259000@pocofarmroadchurch.org
SUMMARY:Prayer Meeting
DESCRIPTION:We are currently meeting virtually for prayer meeting on Zoom. For information about how to join\, please contact the church office at office@pocofarmroadchurch.org.
URL:https://pocofarmroadchurch.org/event/prayer-meeting-2-2-5-2-2/2029-05-23/
LOCATION:Poco Farm Road Church\, 89 Kimble Hill Road\, Williamsport\, 17701\, United States
ATTACH;FMTTYPE=image/jpeg:https://pocofarmroadchurch.b-cdn.net/wp-content/uploads/2024/03/zoom-praryer-meeting.jpg
END:VEVENT
BEGIN:VEVENT
DTSTART;TZID=America/New_York:20290530T183000
DTEND;TZID=America/New_York:20290530T193000
DTSTAMP:20260424T190115
CREATED:20251016T165755Z
LAST-MODIFIED:20251016T165756Z
UID:30000596-1874860200-1874863800@pocofarmroadchurch.org
SUMMARY:Prayer Meeting
DESCRIPTION:We are currently meeting virtually for prayer meeting on Zoom. For information about how to join\, please contact the church office at office@pocofarmroadchurch.org.
URL:https://pocofarmroadchurch.org/event/prayer-meeting-2-2-5-2-2/2029-05-30/
LOCATION:Poco Farm Road Church\, 89 Kimble Hill Road\, Williamsport\, 17701\, United States
ATTACH;FMTTYPE=image/jpeg:https://pocofarmroadchurch.b-cdn.net/wp-content/uploads/2024/03/zoom-praryer-meeting.jpg
END:VEVENT
BEGIN:VEVENT
DTSTART;TZID=America/New_York:20290606T183000
DTEND;TZID=America/New_York:20290606T193000
DTSTAMP:20260424T190115
CREATED:20251016T165755Z
LAST-MODIFIED:20251016T165756Z
UID:30000597-1875465000-1875468600@pocofarmroadchurch.org
SUMMARY:Prayer Meeting
DESCRIPTION:We are currently meeting virtually for prayer meeting on Zoom. For information about how to join\, please contact the church office at office@pocofarmroadchurch.org.
URL:https://pocofarmroadchurch.org/event/prayer-meeting-2-2-5-2-2/2029-06-06/
LOCATION:Poco Farm Road Church\, 89 Kimble Hill Road\, Williamsport\, 17701\, United States
ATTACH;FMTTYPE=image/jpeg:https://pocofarmroadchurch.b-cdn.net/wp-content/uploads/2024/03/zoom-praryer-meeting.jpg
END:VEVENT
BEGIN:VEVENT
DTSTART;TZID=America/New_York:20290613T183000
DTEND;TZID=America/New_York:20290613T193000
DTSTAMP:20260424T190115
CREATED:20251016T165755Z
LAST-MODIFIED:20251016T165756Z
UID:30000598-1876069800-1876073400@pocofarmroadchurch.org
SUMMARY:Prayer Meeting
DESCRIPTION:We are currently meeting virtually for prayer meeting on Zoom. For information about how to join\, please contact the church office at office@pocofarmroadchurch.org.
URL:https://pocofarmroadchurch.org/event/prayer-meeting-2-2-5-2-2/2029-06-13/
LOCATION:Poco Farm Road Church\, 89 Kimble Hill Road\, Williamsport\, 17701\, United States
ATTACH;FMTTYPE=image/jpeg:https://pocofarmroadchurch.b-cdn.net/wp-content/uploads/2024/03/zoom-praryer-meeting.jpg
END:VEVENT
BEGIN:VEVENT
DTSTART;TZID=America/New_York:20290620T183000
DTEND;TZID=America/New_York:20290620T193000
DTSTAMP:20260424T190115
CREATED:20251016T165755Z
LAST-MODIFIED:20251016T165756Z
UID:30001259-1876674600-1876678200@pocofarmroadchurch.org
SUMMARY:Prayer Meeting
DESCRIPTION:We are currently meeting virtually for prayer meeting on Zoom. For information about how to join\, please contact the church office at office@pocofarmroadchurch.org.
URL:https://pocofarmroadchurch.org/event/prayer-meeting-2-2-5-2-2/2029-06-20/
LOCATION:Poco Farm Road Church\, 89 Kimble Hill Road\, Williamsport\, 17701\, United States
ATTACH;FMTTYPE=image/jpeg:https://pocofarmroadchurch.b-cdn.net/wp-content/uploads/2024/03/zoom-praryer-meeting.jpg
END:VEVENT
BEGIN:VEVENT
DTSTART;TZID=America/New_York:20290627T183000
DTEND;TZID=America/New_York:20290627T193000
DTSTAMP:20260424T190115
CREATED:20251016T165755Z
LAST-MODIFIED:20251016T165756Z
UID:30001260-1877279400-1877283000@pocofarmroadchurch.org
SUMMARY:Prayer Meeting
DESCRIPTION:We are currently meeting virtually for prayer meeting on Zoom. For information about how to join\, please contact the church office at office@pocofarmroadchurch.org.
URL:https://pocofarmroadchurch.org/event/prayer-meeting-2-2-5-2-2/2029-06-27/
LOCATION:Poco Farm Road Church\, 89 Kimble Hill Road\, Williamsport\, 17701\, United States
ATTACH;FMTTYPE=image/jpeg:https://pocofarmroadchurch.b-cdn.net/wp-content/uploads/2024/03/zoom-praryer-meeting.jpg
END:VEVENT
BEGIN:VEVENT
DTSTART;TZID=America/New_York:20290704T183000
DTEND;TZID=America/New_York:20290704T193000
DTSTAMP:20260424T190115
CREATED:20251016T165755Z
LAST-MODIFIED:20251016T165756Z
UID:30001261-1877884200-1877887800@pocofarmroadchurch.org
SUMMARY:Prayer Meeting
DESCRIPTION:We are currently meeting virtually for prayer meeting on Zoom. For information about how to join\, please contact the church office at office@pocofarmroadchurch.org.
URL:https://pocofarmroadchurch.org/event/prayer-meeting-2-2-5-2-2/2029-07-04/
LOCATION:Poco Farm Road Church\, 89 Kimble Hill Road\, Williamsport\, 17701\, United States
ATTACH;FMTTYPE=image/jpeg:https://pocofarmroadchurch.b-cdn.net/wp-content/uploads/2024/03/zoom-praryer-meeting.jpg
END:VEVENT
BEGIN:VEVENT
DTSTART;TZID=America/New_York:20290711T183000
DTEND;TZID=America/New_York:20290711T193000
DTSTAMP:20260424T190115
CREATED:20251016T165755Z
LAST-MODIFIED:20251016T165756Z
UID:30001262-1878489000-1878492600@pocofarmroadchurch.org
SUMMARY:Prayer Meeting
DESCRIPTION:We are currently meeting virtually for prayer meeting on Zoom. For information about how to join\, please contact the church office at office@pocofarmroadchurch.org.
URL:https://pocofarmroadchurch.org/event/prayer-meeting-2-2-5-2-2/2029-07-11/
LOCATION:Poco Farm Road Church\, 89 Kimble Hill Road\, Williamsport\, 17701\, United States
ATTACH;FMTTYPE=image/jpeg:https://pocofarmroadchurch.b-cdn.net/wp-content/uploads/2024/03/zoom-praryer-meeting.jpg
END:VEVENT
BEGIN:VEVENT
DTSTART;TZID=America/New_York:20290718T183000
DTEND;TZID=America/New_York:20290718T193000
DTSTAMP:20260424T190115
CREATED:20251016T165755Z
LAST-MODIFIED:20251016T165756Z
UID:30001263-1879093800-1879097400@pocofarmroadchurch.org
SUMMARY:Prayer Meeting
DESCRIPTION:We are currently meeting virtually for prayer meeting on Zoom. For information about how to join\, please contact the church office at office@pocofarmroadchurch.org.
URL:https://pocofarmroadchurch.org/event/prayer-meeting-2-2-5-2-2/2029-07-18/
LOCATION:Poco Farm Road Church\, 89 Kimble Hill Road\, Williamsport\, 17701\, United States
ATTACH;FMTTYPE=image/jpeg:https://pocofarmroadchurch.b-cdn.net/wp-content/uploads/2024/03/zoom-praryer-meeting.jpg
END:VEVENT
BEGIN:VEVENT
DTSTART;TZID=America/New_York:20290725T183000
DTEND;TZID=America/New_York:20290725T193000
DTSTAMP:20260424T190115
CREATED:20251016T165755Z
LAST-MODIFIED:20251016T165756Z
UID:30001264-1879698600-1879702200@pocofarmroadchurch.org
SUMMARY:Prayer Meeting
DESCRIPTION:We are currently meeting virtually for prayer meeting on Zoom. For information about how to join\, please contact the church office at office@pocofarmroadchurch.org.
URL:https://pocofarmroadchurch.org/event/prayer-meeting-2-2-5-2-2/2029-07-25/
LOCATION:Poco Farm Road Church\, 89 Kimble Hill Road\, Williamsport\, 17701\, United States
ATTACH;FMTTYPE=image/jpeg:https://pocofarmroadchurch.b-cdn.net/wp-content/uploads/2024/03/zoom-praryer-meeting.jpg
END:VEVENT
BEGIN:VEVENT
DTSTART;TZID=America/New_York:20290801T183000
DTEND;TZID=America/New_York:20290801T193000
DTSTAMP:20260424T190115
CREATED:20251016T165755Z
LAST-MODIFIED:20251016T165756Z
UID:30001265-1880303400-1880307000@pocofarmroadchurch.org
SUMMARY:Prayer Meeting
DESCRIPTION:We are currently meeting virtually for prayer meeting on Zoom. For information about how to join\, please contact the church office at office@pocofarmroadchurch.org.
URL:https://pocofarmroadchurch.org/event/prayer-meeting-2-2-5-2-2/2029-08-01/
LOCATION:Poco Farm Road Church\, 89 Kimble Hill Road\, Williamsport\, 17701\, United States
ATTACH;FMTTYPE=image/jpeg:https://pocofarmroadchurch.b-cdn.net/wp-content/uploads/2024/03/zoom-praryer-meeting.jpg
END:VEVENT
BEGIN:VEVENT
DTSTART;TZID=America/New_York:20290808T183000
DTEND;TZID=America/New_York:20290808T193000
DTSTAMP:20260424T190115
CREATED:20251016T165755Z
LAST-MODIFIED:20251016T165756Z
UID:30001266-1880908200-1880911800@pocofarmroadchurch.org
SUMMARY:Prayer Meeting
DESCRIPTION:We are currently meeting virtually for prayer meeting on Zoom. For information about how to join\, please contact the church office at office@pocofarmroadchurch.org.
URL:https://pocofarmroadchurch.org/event/prayer-meeting-2-2-5-2-2/2029-08-08/
LOCATION:Poco Farm Road Church\, 89 Kimble Hill Road\, Williamsport\, 17701\, United States
ATTACH;FMTTYPE=image/jpeg:https://pocofarmroadchurch.b-cdn.net/wp-content/uploads/2024/03/zoom-praryer-meeting.jpg
END:VEVENT
BEGIN:VEVENT
DTSTART;TZID=America/New_York:20290815T183000
DTEND;TZID=America/New_York:20290815T193000
DTSTAMP:20260424T190115
CREATED:20251016T165755Z
LAST-MODIFIED:20251016T165756Z
UID:30001330-1881513000-1881516600@pocofarmroadchurch.org
SUMMARY:Prayer Meeting
DESCRIPTION:We are currently meeting virtually for prayer meeting on Zoom. For information about how to join\, please contact the church office at office@pocofarmroadchurch.org.
URL:https://pocofarmroadchurch.org/event/prayer-meeting-2-2-5-2-2/2029-08-15/
LOCATION:Poco Farm Road Church\, 89 Kimble Hill Road\, Williamsport\, 17701\, United States
ATTACH;FMTTYPE=image/jpeg:https://pocofarmroadchurch.b-cdn.net/wp-content/uploads/2024/03/zoom-praryer-meeting.jpg
END:VEVENT
BEGIN:VEVENT
DTSTART;TZID=America/New_York:20290822T183000
DTEND;TZID=America/New_York:20290822T193000
DTSTAMP:20260424T190115
CREATED:20251016T165755Z
LAST-MODIFIED:20251016T165756Z
UID:30001331-1882117800-1882121400@pocofarmroadchurch.org
SUMMARY:Prayer Meeting
DESCRIPTION:We are currently meeting virtually for prayer meeting on Zoom. For information about how to join\, please contact the church office at office@pocofarmroadchurch.org.
URL:https://pocofarmroadchurch.org/event/prayer-meeting-2-2-5-2-2/2029-08-22/
LOCATION:Poco Farm Road Church\, 89 Kimble Hill Road\, Williamsport\, 17701\, United States
ATTACH;FMTTYPE=image/jpeg:https://pocofarmroadchurch.b-cdn.net/wp-content/uploads/2024/03/zoom-praryer-meeting.jpg
END:VEVENT
BEGIN:VEVENT
DTSTART;TZID=America/New_York:20290829T183000
DTEND;TZID=America/New_York:20290829T193000
DTSTAMP:20260424T190115
CREATED:20251016T165755Z
LAST-MODIFIED:20251016T165756Z
UID:30001332-1882722600-1882726200@pocofarmroadchurch.org
SUMMARY:Prayer Meeting
DESCRIPTION:We are currently meeting virtually for prayer meeting on Zoom. For information about how to join\, please contact the church office at office@pocofarmroadchurch.org.
URL:https://pocofarmroadchurch.org/event/prayer-meeting-2-2-5-2-2/2029-08-29/
LOCATION:Poco Farm Road Church\, 89 Kimble Hill Road\, Williamsport\, 17701\, United States
ATTACH;FMTTYPE=image/jpeg:https://pocofarmroadchurch.b-cdn.net/wp-content/uploads/2024/03/zoom-praryer-meeting.jpg
END:VEVENT
BEGIN:VEVENT
DTSTART;TZID=America/New_York:20290905T183000
DTEND;TZID=America/New_York:20290905T193000
DTSTAMP:20260424T190115
CREATED:20251016T165755Z
LAST-MODIFIED:20251016T165756Z
UID:30001362-1883327400-1883331000@pocofarmroadchurch.org
SUMMARY:Prayer Meeting
DESCRIPTION:We are currently meeting virtually for prayer meeting on Zoom. For information about how to join\, please contact the church office at office@pocofarmroadchurch.org.
URL:https://pocofarmroadchurch.org/event/prayer-meeting-2-2-5-2-2/2029-09-05/
LOCATION:Poco Farm Road Church\, 89 Kimble Hill Road\, Williamsport\, 17701\, United States
ATTACH;FMTTYPE=image/jpeg:https://pocofarmroadchurch.b-cdn.net/wp-content/uploads/2024/03/zoom-praryer-meeting.jpg
END:VEVENT
BEGIN:VEVENT
DTSTART;TZID=America/New_York:20290912T183000
DTEND;TZID=America/New_York:20290912T193000
DTSTAMP:20260424T190115
CREATED:20251016T165755Z
LAST-MODIFIED:20251016T165756Z
UID:30001363-1883932200-1883935800@pocofarmroadchurch.org
SUMMARY:Prayer Meeting
DESCRIPTION:We are currently meeting virtually for prayer meeting on Zoom. For information about how to join\, please contact the church office at office@pocofarmroadchurch.org.
URL:https://pocofarmroadchurch.org/event/prayer-meeting-2-2-5-2-2/2029-09-12/
LOCATION:Poco Farm Road Church\, 89 Kimble Hill Road\, Williamsport\, 17701\, United States
ATTACH;FMTTYPE=image/jpeg:https://pocofarmroadchurch.b-cdn.net/wp-content/uploads/2024/03/zoom-praryer-meeting.jpg
END:VEVENT
BEGIN:VEVENT
DTSTART;TZID=America/New_York:20290919T183000
DTEND;TZID=America/New_York:20290919T193000
DTSTAMP:20260424T190115
CREATED:20251016T165755Z
LAST-MODIFIED:20251016T165756Z
UID:30001364-1884537000-1884540600@pocofarmroadchurch.org
SUMMARY:Prayer Meeting
DESCRIPTION:We are currently meeting virtually for prayer meeting on Zoom. For information about how to join\, please contact the church office at office@pocofarmroadchurch.org.
URL:https://pocofarmroadchurch.org/event/prayer-meeting-2-2-5-2-2/2029-09-19/
LOCATION:Poco Farm Road Church\, 89 Kimble Hill Road\, Williamsport\, 17701\, United States
ATTACH;FMTTYPE=image/jpeg:https://pocofarmroadchurch.b-cdn.net/wp-content/uploads/2024/03/zoom-praryer-meeting.jpg
END:VEVENT
BEGIN:VEVENT
DTSTART;TZID=America/New_York:20290926T183000
DTEND;TZID=America/New_York:20290926T193000
DTSTAMP:20260424T190115
CREATED:20251016T165755Z
LAST-MODIFIED:20251016T165756Z
UID:30001365-1885141800-1885145400@pocofarmroadchurch.org
SUMMARY:Prayer Meeting
DESCRIPTION:We are currently meeting virtually for prayer meeting on Zoom. For information about how to join\, please contact the church office at office@pocofarmroadchurch.org.
URL:https://pocofarmroadchurch.org/event/prayer-meeting-2-2-5-2-2/2029-09-26/
LOCATION:Poco Farm Road Church\, 89 Kimble Hill Road\, Williamsport\, 17701\, United States
ATTACH;FMTTYPE=image/jpeg:https://pocofarmroadchurch.b-cdn.net/wp-content/uploads/2024/03/zoom-praryer-meeting.jpg
END:VEVENT
BEGIN:VEVENT
DTSTART;TZID=America/New_York:20291003T183000
DTEND;TZID=America/New_York:20291003T193000
DTSTAMP:20260424T190115
CREATED:20251016T165755Z
LAST-MODIFIED:20251016T165756Z
UID:30001366-1885746600-1885750200@pocofarmroadchurch.org
SUMMARY:Prayer Meeting
DESCRIPTION:We are currently meeting virtually for prayer meeting on Zoom. For information about how to join\, please contact the church office at office@pocofarmroadchurch.org.
URL:https://pocofarmroadchurch.org/event/prayer-meeting-2-2-5-2-2/2029-10-03/
LOCATION:Poco Farm Road Church\, 89 Kimble Hill Road\, Williamsport\, 17701\, United States
ATTACH;FMTTYPE=image/jpeg:https://pocofarmroadchurch.b-cdn.net/wp-content/uploads/2024/03/zoom-praryer-meeting.jpg
END:VEVENT
BEGIN:VEVENT
DTSTART;TZID=America/New_York:20291010T183000
DTEND;TZID=America/New_York:20291010T193000
DTSTAMP:20260424T190115
CREATED:20251016T165755Z
LAST-MODIFIED:20251016T165756Z
UID:30001367-1886351400-1886355000@pocofarmroadchurch.org
SUMMARY:Prayer Meeting
DESCRIPTION:We are currently meeting virtually for prayer meeting on Zoom. For information about how to join\, please contact the church office at office@pocofarmroadchurch.org.
URL:https://pocofarmroadchurch.org/event/prayer-meeting-2-2-5-2-2/2029-10-10/
LOCATION:Poco Farm Road Church\, 89 Kimble Hill Road\, Williamsport\, 17701\, United States
ATTACH;FMTTYPE=image/jpeg:https://pocofarmroadchurch.b-cdn.net/wp-content/uploads/2024/03/zoom-praryer-meeting.jpg
END:VEVENT
BEGIN:VEVENT
DTSTART;TZID=America/New_York:20291017T183000
DTEND;TZID=America/New_York:20291017T193000
DTSTAMP:20260424T190115
CREATED:20251016T165755Z
LAST-MODIFIED:20251016T165756Z
UID:30001368-1886956200-1886959800@pocofarmroadchurch.org
SUMMARY:Prayer Meeting
DESCRIPTION:We are currently meeting virtually for prayer meeting on Zoom. For information about how to join\, please contact the church office at office@pocofarmroadchurch.org.
URL:https://pocofarmroadchurch.org/event/prayer-meeting-2-2-5-2-2/2029-10-17/
LOCATION:Poco Farm Road Church\, 89 Kimble Hill Road\, Williamsport\, 17701\, United States
ATTACH;FMTTYPE=image/jpeg:https://pocofarmroadchurch.b-cdn.net/wp-content/uploads/2024/03/zoom-praryer-meeting.jpg
END:VEVENT
BEGIN:VEVENT
DTSTART;TZID=America/New_York:20291024T183000
DTEND;TZID=America/New_York:20291024T193000
DTSTAMP:20260424T190115
CREATED:20251016T165755Z
LAST-MODIFIED:20251016T165756Z
UID:30001369-1887561000-1887564600@pocofarmroadchurch.org
SUMMARY:Prayer Meeting
DESCRIPTION:We are currently meeting virtually for prayer meeting on Zoom. For information about how to join\, please contact the church office at office@pocofarmroadchurch.org.
URL:https://pocofarmroadchurch.org/event/prayer-meeting-2-2-5-2-2/2029-10-24/
LOCATION:Poco Farm Road Church\, 89 Kimble Hill Road\, Williamsport\, 17701\, United States
ATTACH;FMTTYPE=image/jpeg:https://pocofarmroadchurch.b-cdn.net/wp-content/uploads/2024/03/zoom-praryer-meeting.jpg
END:VEVENT
BEGIN:VEVENT
DTSTART;TZID=America/New_York:20291031T183000
DTEND;TZID=America/New_York:20291031T193000
DTSTAMP:20260424T190115
CREATED:20251016T165755Z
LAST-MODIFIED:20251016T165756Z
UID:30001370-1888165800-1888169400@pocofarmroadchurch.org
SUMMARY:Prayer Meeting
DESCRIPTION:We are currently meeting virtually for prayer meeting on Zoom. For information about how to join\, please contact the church office at office@pocofarmroadchurch.org.
URL:https://pocofarmroadchurch.org/event/prayer-meeting-2-2-5-2-2/2029-10-31/
LOCATION:Poco Farm Road Church\, 89 Kimble Hill Road\, Williamsport\, 17701\, United States
ATTACH;FMTTYPE=image/jpeg:https://pocofarmroadchurch.b-cdn.net/wp-content/uploads/2024/03/zoom-praryer-meeting.jpg
END:VEVENT
BEGIN:VEVENT
DTSTART;TZID=America/New_York:20291107T183000
DTEND;TZID=America/New_York:20291107T193000
DTSTAMP:20260424T190115
CREATED:20251016T165755Z
LAST-MODIFIED:20251016T165756Z
UID:30001371-1888770600-1888774200@pocofarmroadchurch.org
SUMMARY:Prayer Meeting
DESCRIPTION:We are currently meeting virtually for prayer meeting on Zoom. For information about how to join\, please contact the church office at office@pocofarmroadchurch.org.
URL:https://pocofarmroadchurch.org/event/prayer-meeting-2-2-5-2-2/2029-11-07/
LOCATION:Poco Farm Road Church\, 89 Kimble Hill Road\, Williamsport\, 17701\, United States
ATTACH;FMTTYPE=image/jpeg:https://pocofarmroadchurch.b-cdn.net/wp-content/uploads/2024/03/zoom-praryer-meeting.jpg
END:VEVENT
BEGIN:VEVENT
DTSTART;TZID=America/New_York:20291114T183000
DTEND;TZID=America/New_York:20291114T193000
DTSTAMP:20260424T190115
CREATED:20251016T165755Z
LAST-MODIFIED:20251016T165756Z
UID:30001372-1889375400-1889379000@pocofarmroadchurch.org
SUMMARY:Prayer Meeting
DESCRIPTION:We are currently meeting virtually for prayer meeting on Zoom. For information about how to join\, please contact the church office at office@pocofarmroadchurch.org.
URL:https://pocofarmroadchurch.org/event/prayer-meeting-2-2-5-2-2/2029-11-14/
LOCATION:Poco Farm Road Church\, 89 Kimble Hill Road\, Williamsport\, 17701\, United States
ATTACH;FMTTYPE=image/jpeg:https://pocofarmroadchurch.b-cdn.net/wp-content/uploads/2024/03/zoom-praryer-meeting.jpg
END:VEVENT
END:VCALENDAR