BEGIN:VCALENDAR
VERSION:2.0
PRODID:-//Poco Farm Road Church - ECPv6.9.0//NONSGML v1.0//EN
CALSCALE:GREGORIAN
METHOD:PUBLISH
X-ORIGINAL-URL:https://pocofarmroadchurch.org
X-WR-CALDESC:Events for Poco Farm Road Church
REFRESH-INTERVAL;VALUE=DURATION:PT1H
X-Robots-Tag:noindex
X-PUBLISHED-TTL:PT1H
BEGIN:VTIMEZONE
TZID:America/New_York
BEGIN:DAYLIGHT
TZOFFSETFROM:-0500
TZOFFSETTO:-0400
TZNAME:EDT
DTSTART:20300310T070000
END:DAYLIGHT
BEGIN:STANDARD
TZOFFSETFROM:-0400
TZOFFSETTO:-0500
TZNAME:EST
DTSTART:20301103T060000
END:STANDARD
END:VTIMEZONE
BEGIN:VEVENT
DTSTART;TZID=America/New_York:20300619T183000
DTEND;TZID=America/New_York:20300619T193000
DTSTAMP:20260425T171417
CREATED:20251016T165755Z
LAST-MODIFIED:20251016T165756Z
UID:30001716-1908124200-1908127800@pocofarmroadchurch.org
SUMMARY:Prayer Meeting
DESCRIPTION:We are currently meeting virtually for prayer meeting on Zoom. For information about how to join\, please contact the church office at office@pocofarmroadchurch.org.
URL:https://pocofarmroadchurch.org/event/prayer-meeting-2-2-5-2-2/2030-06-19/
LOCATION:Poco Farm Road Church\, 89 Kimble Hill Road\, Williamsport\, 17701\, United States
ATTACH;FMTTYPE=image/jpeg:https://pocofarmroadchurch.b-cdn.net/wp-content/uploads/2024/03/zoom-praryer-meeting.jpg
END:VEVENT
BEGIN:VEVENT
DTSTART;TZID=America/New_York:20300626T183000
DTEND;TZID=America/New_York:20300626T193000
DTSTAMP:20260425T171417
CREATED:20251016T165755Z
LAST-MODIFIED:20251016T165756Z
UID:30001717-1908729000-1908732600@pocofarmroadchurch.org
SUMMARY:Prayer Meeting
DESCRIPTION:We are currently meeting virtually for prayer meeting on Zoom. For information about how to join\, please contact the church office at office@pocofarmroadchurch.org.
URL:https://pocofarmroadchurch.org/event/prayer-meeting-2-2-5-2-2/2030-06-26/
LOCATION:Poco Farm Road Church\, 89 Kimble Hill Road\, Williamsport\, 17701\, United States
ATTACH;FMTTYPE=image/jpeg:https://pocofarmroadchurch.b-cdn.net/wp-content/uploads/2024/03/zoom-praryer-meeting.jpg
END:VEVENT
BEGIN:VEVENT
DTSTART;TZID=America/New_York:20300703T183000
DTEND;TZID=America/New_York:20300703T193000
DTSTAMP:20260425T171417
CREATED:20251016T165755Z
LAST-MODIFIED:20251016T165756Z
UID:30002030-1909333800-1909337400@pocofarmroadchurch.org
SUMMARY:Prayer Meeting
DESCRIPTION:We are currently meeting virtually for prayer meeting on Zoom. For information about how to join\, please contact the church office at office@pocofarmroadchurch.org.
URL:https://pocofarmroadchurch.org/event/prayer-meeting-2-2-5-2-2/2030-07-03/
LOCATION:Poco Farm Road Church\, 89 Kimble Hill Road\, Williamsport\, 17701\, United States
ATTACH;FMTTYPE=image/jpeg:https://pocofarmroadchurch.b-cdn.net/wp-content/uploads/2024/03/zoom-praryer-meeting.jpg
END:VEVENT
BEGIN:VEVENT
DTSTART;TZID=America/New_York:20300710T183000
DTEND;TZID=America/New_York:20300710T193000
DTSTAMP:20260425T171417
CREATED:20251016T165755Z
LAST-MODIFIED:20251016T165756Z
UID:30002031-1909938600-1909942200@pocofarmroadchurch.org
SUMMARY:Prayer Meeting
DESCRIPTION:We are currently meeting virtually for prayer meeting on Zoom. For information about how to join\, please contact the church office at office@pocofarmroadchurch.org.
URL:https://pocofarmroadchurch.org/event/prayer-meeting-2-2-5-2-2/2030-07-10/
LOCATION:Poco Farm Road Church\, 89 Kimble Hill Road\, Williamsport\, 17701\, United States
ATTACH;FMTTYPE=image/jpeg:https://pocofarmroadchurch.b-cdn.net/wp-content/uploads/2024/03/zoom-praryer-meeting.jpg
END:VEVENT
BEGIN:VEVENT
DTSTART;TZID=America/New_York:20300717T183000
DTEND;TZID=America/New_York:20300717T193000
DTSTAMP:20260425T171417
CREATED:20251016T165755Z
LAST-MODIFIED:20251016T165756Z
UID:30002032-1910543400-1910547000@pocofarmroadchurch.org
SUMMARY:Prayer Meeting
DESCRIPTION:We are currently meeting virtually for prayer meeting on Zoom. For information about how to join\, please contact the church office at office@pocofarmroadchurch.org.
URL:https://pocofarmroadchurch.org/event/prayer-meeting-2-2-5-2-2/2030-07-17/
LOCATION:Poco Farm Road Church\, 89 Kimble Hill Road\, Williamsport\, 17701\, United States
ATTACH;FMTTYPE=image/jpeg:https://pocofarmroadchurch.b-cdn.net/wp-content/uploads/2024/03/zoom-praryer-meeting.jpg
END:VEVENT
BEGIN:VEVENT
DTSTART;TZID=America/New_York:20300724T183000
DTEND;TZID=America/New_York:20300724T193000
DTSTAMP:20260425T171417
CREATED:20251016T165755Z
LAST-MODIFIED:20251016T165756Z
UID:30002033-1911148200-1911151800@pocofarmroadchurch.org
SUMMARY:Prayer Meeting
DESCRIPTION:We are currently meeting virtually for prayer meeting on Zoom. For information about how to join\, please contact the church office at office@pocofarmroadchurch.org.
URL:https://pocofarmroadchurch.org/event/prayer-meeting-2-2-5-2-2/2030-07-24/
LOCATION:Poco Farm Road Church\, 89 Kimble Hill Road\, Williamsport\, 17701\, United States
ATTACH;FMTTYPE=image/jpeg:https://pocofarmroadchurch.b-cdn.net/wp-content/uploads/2024/03/zoom-praryer-meeting.jpg
END:VEVENT
BEGIN:VEVENT
DTSTART;TZID=America/New_York:20300731T183000
DTEND;TZID=America/New_York:20300731T193000
DTSTAMP:20260425T171417
CREATED:20251016T165755Z
LAST-MODIFIED:20251016T165756Z
UID:30002039-1911753000-1911756600@pocofarmroadchurch.org
SUMMARY:Prayer Meeting
DESCRIPTION:We are currently meeting virtually for prayer meeting on Zoom. For information about how to join\, please contact the church office at office@pocofarmroadchurch.org.
URL:https://pocofarmroadchurch.org/event/prayer-meeting-2-2-5-2-2/2030-07-31/
LOCATION:Poco Farm Road Church\, 89 Kimble Hill Road\, Williamsport\, 17701\, United States
ATTACH;FMTTYPE=image/jpeg:https://pocofarmroadchurch.b-cdn.net/wp-content/uploads/2024/03/zoom-praryer-meeting.jpg
END:VEVENT
BEGIN:VEVENT
DTSTART;TZID=America/New_York:20300807T183000
DTEND;TZID=America/New_York:20300807T193000
DTSTAMP:20260425T171417
CREATED:20251016T165755Z
LAST-MODIFIED:20251016T165756Z
UID:30002040-1912357800-1912361400@pocofarmroadchurch.org
SUMMARY:Prayer Meeting
DESCRIPTION:We are currently meeting virtually for prayer meeting on Zoom. For information about how to join\, please contact the church office at office@pocofarmroadchurch.org.
URL:https://pocofarmroadchurch.org/event/prayer-meeting-2-2-5-2-2/2030-08-07/
LOCATION:Poco Farm Road Church\, 89 Kimble Hill Road\, Williamsport\, 17701\, United States
ATTACH;FMTTYPE=image/jpeg:https://pocofarmroadchurch.b-cdn.net/wp-content/uploads/2024/03/zoom-praryer-meeting.jpg
END:VEVENT
BEGIN:VEVENT
DTSTART;TZID=America/New_York:20300814T183000
DTEND;TZID=America/New_York:20300814T193000
DTSTAMP:20260425T171417
CREATED:20251016T165755Z
LAST-MODIFIED:20251016T165756Z
UID:30002041-1912962600-1912966200@pocofarmroadchurch.org
SUMMARY:Prayer Meeting
DESCRIPTION:We are currently meeting virtually for prayer meeting on Zoom. For information about how to join\, please contact the church office at office@pocofarmroadchurch.org.
URL:https://pocofarmroadchurch.org/event/prayer-meeting-2-2-5-2-2/2030-08-14/
LOCATION:Poco Farm Road Church\, 89 Kimble Hill Road\, Williamsport\, 17701\, United States
ATTACH;FMTTYPE=image/jpeg:https://pocofarmroadchurch.b-cdn.net/wp-content/uploads/2024/03/zoom-praryer-meeting.jpg
END:VEVENT
BEGIN:VEVENT
DTSTART;TZID=America/New_York:20300821T183000
DTEND;TZID=America/New_York:20300821T193000
DTSTAMP:20260425T171417
CREATED:20251016T165755Z
LAST-MODIFIED:20251016T165756Z
UID:30002042-1913567400-1913571000@pocofarmroadchurch.org
SUMMARY:Prayer Meeting
DESCRIPTION:We are currently meeting virtually for prayer meeting on Zoom. For information about how to join\, please contact the church office at office@pocofarmroadchurch.org.
URL:https://pocofarmroadchurch.org/event/prayer-meeting-2-2-5-2-2/2030-08-21/
LOCATION:Poco Farm Road Church\, 89 Kimble Hill Road\, Williamsport\, 17701\, United States
ATTACH;FMTTYPE=image/jpeg:https://pocofarmroadchurch.b-cdn.net/wp-content/uploads/2024/03/zoom-praryer-meeting.jpg
END:VEVENT
BEGIN:VEVENT
DTSTART;TZID=America/New_York:20300828T183000
DTEND;TZID=America/New_York:20300828T193000
DTSTAMP:20260425T171417
CREATED:20251016T165755Z
LAST-MODIFIED:20251016T165756Z
UID:30002043-1914172200-1914175800@pocofarmroadchurch.org
SUMMARY:Prayer Meeting
DESCRIPTION:We are currently meeting virtually for prayer meeting on Zoom. For information about how to join\, please contact the church office at office@pocofarmroadchurch.org.
URL:https://pocofarmroadchurch.org/event/prayer-meeting-2-2-5-2-2/2030-08-28/
LOCATION:Poco Farm Road Church\, 89 Kimble Hill Road\, Williamsport\, 17701\, United States
ATTACH;FMTTYPE=image/jpeg:https://pocofarmroadchurch.b-cdn.net/wp-content/uploads/2024/03/zoom-praryer-meeting.jpg
END:VEVENT
BEGIN:VEVENT
DTSTART;TZID=America/New_York:20300904T183000
DTEND;TZID=America/New_York:20300904T193000
DTSTAMP:20260425T171417
CREATED:20251016T165755Z
LAST-MODIFIED:20251016T165756Z
UID:30002044-1914777000-1914780600@pocofarmroadchurch.org
SUMMARY:Prayer Meeting
DESCRIPTION:We are currently meeting virtually for prayer meeting on Zoom. For information about how to join\, please contact the church office at office@pocofarmroadchurch.org.
URL:https://pocofarmroadchurch.org/event/prayer-meeting-2-2-5-2-2/2030-09-04/
LOCATION:Poco Farm Road Church\, 89 Kimble Hill Road\, Williamsport\, 17701\, United States
ATTACH;FMTTYPE=image/jpeg:https://pocofarmroadchurch.b-cdn.net/wp-content/uploads/2024/03/zoom-praryer-meeting.jpg
END:VEVENT
BEGIN:VEVENT
DTSTART;TZID=America/New_York:20300911T183000
DTEND;TZID=America/New_York:20300911T193000
DTSTAMP:20260425T171417
CREATED:20251016T165755Z
LAST-MODIFIED:20251016T165756Z
UID:30002045-1915381800-1915385400@pocofarmroadchurch.org
SUMMARY:Prayer Meeting
DESCRIPTION:We are currently meeting virtually for prayer meeting on Zoom. For information about how to join\, please contact the church office at office@pocofarmroadchurch.org.
URL:https://pocofarmroadchurch.org/event/prayer-meeting-2-2-5-2-2/2030-09-11/
LOCATION:Poco Farm Road Church\, 89 Kimble Hill Road\, Williamsport\, 17701\, United States
ATTACH;FMTTYPE=image/jpeg:https://pocofarmroadchurch.b-cdn.net/wp-content/uploads/2024/03/zoom-praryer-meeting.jpg
END:VEVENT
BEGIN:VEVENT
DTSTART;TZID=America/New_York:20300918T183000
DTEND;TZID=America/New_York:20300918T193000
DTSTAMP:20260425T171417
CREATED:20251016T165755Z
LAST-MODIFIED:20251016T165756Z
UID:30002046-1915986600-1915990200@pocofarmroadchurch.org
SUMMARY:Prayer Meeting
DESCRIPTION:We are currently meeting virtually for prayer meeting on Zoom. For information about how to join\, please contact the church office at office@pocofarmroadchurch.org.
URL:https://pocofarmroadchurch.org/event/prayer-meeting-2-2-5-2-2/2030-09-18/
LOCATION:Poco Farm Road Church\, 89 Kimble Hill Road\, Williamsport\, 17701\, United States
ATTACH;FMTTYPE=image/jpeg:https://pocofarmroadchurch.b-cdn.net/wp-content/uploads/2024/03/zoom-praryer-meeting.jpg
END:VEVENT
BEGIN:VEVENT
DTSTART;TZID=America/New_York:20300925T183000
DTEND;TZID=America/New_York:20300925T193000
DTSTAMP:20260425T171417
CREATED:20251016T165755Z
LAST-MODIFIED:20251016T165756Z
UID:30002047-1916591400-1916595000@pocofarmroadchurch.org
SUMMARY:Prayer Meeting
DESCRIPTION:We are currently meeting virtually for prayer meeting on Zoom. For information about how to join\, please contact the church office at office@pocofarmroadchurch.org.
URL:https://pocofarmroadchurch.org/event/prayer-meeting-2-2-5-2-2/2030-09-25/
LOCATION:Poco Farm Road Church\, 89 Kimble Hill Road\, Williamsport\, 17701\, United States
ATTACH;FMTTYPE=image/jpeg:https://pocofarmroadchurch.b-cdn.net/wp-content/uploads/2024/03/zoom-praryer-meeting.jpg
END:VEVENT
BEGIN:VEVENT
DTSTART;TZID=America/New_York:20301002T183000
DTEND;TZID=America/New_York:20301002T193000
DTSTAMP:20260425T171417
CREATED:20251016T165755Z
LAST-MODIFIED:20251016T165756Z
UID:30002049-1917196200-1917199800@pocofarmroadchurch.org
SUMMARY:Prayer Meeting
DESCRIPTION:We are currently meeting virtually for prayer meeting on Zoom. For information about how to join\, please contact the church office at office@pocofarmroadchurch.org.
URL:https://pocofarmroadchurch.org/event/prayer-meeting-2-2-5-2-2/2030-10-02/
LOCATION:Poco Farm Road Church\, 89 Kimble Hill Road\, Williamsport\, 17701\, United States
ATTACH;FMTTYPE=image/jpeg:https://pocofarmroadchurch.b-cdn.net/wp-content/uploads/2024/03/zoom-praryer-meeting.jpg
END:VEVENT
BEGIN:VEVENT
DTSTART;TZID=America/New_York:20301009T183000
DTEND;TZID=America/New_York:20301009T193000
DTSTAMP:20260425T171417
CREATED:20251016T165755Z
LAST-MODIFIED:20251016T165756Z
UID:30002050-1917801000-1917804600@pocofarmroadchurch.org
SUMMARY:Prayer Meeting
DESCRIPTION:We are currently meeting virtually for prayer meeting on Zoom. For information about how to join\, please contact the church office at office@pocofarmroadchurch.org.
URL:https://pocofarmroadchurch.org/event/prayer-meeting-2-2-5-2-2/2030-10-09/
LOCATION:Poco Farm Road Church\, 89 Kimble Hill Road\, Williamsport\, 17701\, United States
ATTACH;FMTTYPE=image/jpeg:https://pocofarmroadchurch.b-cdn.net/wp-content/uploads/2024/03/zoom-praryer-meeting.jpg
END:VEVENT
BEGIN:VEVENT
DTSTART;TZID=America/New_York:20301016T183000
DTEND;TZID=America/New_York:20301016T193000
DTSTAMP:20260425T171417
CREATED:20251016T165755Z
LAST-MODIFIED:20251016T165756Z
UID:30002051-1918405800-1918409400@pocofarmroadchurch.org
SUMMARY:Prayer Meeting
DESCRIPTION:We are currently meeting virtually for prayer meeting on Zoom. For information about how to join\, please contact the church office at office@pocofarmroadchurch.org.
URL:https://pocofarmroadchurch.org/event/prayer-meeting-2-2-5-2-2/2030-10-16/
LOCATION:Poco Farm Road Church\, 89 Kimble Hill Road\, Williamsport\, 17701\, United States
ATTACH;FMTTYPE=image/jpeg:https://pocofarmroadchurch.b-cdn.net/wp-content/uploads/2024/03/zoom-praryer-meeting.jpg
END:VEVENT
END:VCALENDAR