BEGIN:VCALENDAR
VERSION:2.0
PRODID:-//Poco Farm Road Church - ECPv6.9.0//NONSGML v1.0//EN
CALSCALE:GREGORIAN
METHOD:PUBLISH
X-ORIGINAL-URL:https://pocofarmroadchurch.org
X-WR-CALDESC:Events for Poco Farm Road Church
REFRESH-INTERVAL;VALUE=DURATION:PT1H
X-Robots-Tag:noindex
X-PUBLISHED-TTL:PT1H
BEGIN:VTIMEZONE
TZID:America/New_York
BEGIN:DAYLIGHT
TZOFFSETFROM:-0500
TZOFFSETTO:-0400
TZNAME:EDT
DTSTART:20240310T070000
END:DAYLIGHT
BEGIN:STANDARD
TZOFFSETFROM:-0400
TZOFFSETTO:-0500
TZNAME:EST
DTSTART:20241103T060000
END:STANDARD
BEGIN:DAYLIGHT
TZOFFSETFROM:-0500
TZOFFSETTO:-0400
TZNAME:EDT
DTSTART:20250309T070000
END:DAYLIGHT
BEGIN:STANDARD
TZOFFSETFROM:-0400
TZOFFSETTO:-0500
TZNAME:EST
DTSTART:20251102T060000
END:STANDARD
END:VTIMEZONE
BEGIN:VEVENT
DTSTART;TZID=America/New_York:20250409T183000
DTEND;TZID=America/New_York:20250409T193000
DTSTAMP:20260420T041952
CREATED:20240829T165502Z
LAST-MODIFIED:20240829T165502Z
UID:30000380-1744223400-1744227000@pocofarmroadchurch.org
SUMMARY:Prayer Meeting
DESCRIPTION:We are currently meeting through Zoom for our Wednesday night prayer meeting. For information about how to join\, please contact the church office at office@pocofarmroadchurch.org.
URL:https://pocofarmroadchurch.org/event/prayer-meeting-2-2/2025-04-09/
LOCATION:Poco Farm Road Church\, 89 Kimble Hill Road\, Williamsport\, 17701\, United States
ATTACH;FMTTYPE=image/jpeg:https://pocofarmroadchurch.b-cdn.net/wp-content/uploads/2024/03/zoom-praryer-meeting.jpg
END:VEVENT
BEGIN:VEVENT
DTSTART;TZID=America/New_York:20250402T183000
DTEND;TZID=America/New_York:20250402T193000
DTSTAMP:20260420T041952
CREATED:20240829T165502Z
LAST-MODIFIED:20240829T165502Z
UID:30000379-1743618600-1743622200@pocofarmroadchurch.org
SUMMARY:Prayer Meeting
DESCRIPTION:We are currently meeting through Zoom for our Wednesday night prayer meeting. For information about how to join\, please contact the church office at office@pocofarmroadchurch.org.
URL:https://pocofarmroadchurch.org/event/prayer-meeting-2-2/2025-04-02/
LOCATION:Poco Farm Road Church\, 89 Kimble Hill Road\, Williamsport\, 17701\, United States
ATTACH;FMTTYPE=image/jpeg:https://pocofarmroadchurch.b-cdn.net/wp-content/uploads/2024/03/zoom-praryer-meeting.jpg
END:VEVENT
BEGIN:VEVENT
DTSTART;TZID=America/New_York:20250329T100000
DTEND;TZID=America/New_York:20250329T120000
DTSTAMP:20260420T041952
CREATED:20250312T132733Z
LAST-MODIFIED:20250312T132733Z
UID:30001663-1743242400-1743249600@pocofarmroadchurch.org
SUMMARY:Ladies Gathering
DESCRIPTION:
URL:https://pocofarmroadchurch.org/event/ladies-gathering-6/
LOCATION:Poco Farm Road Church\, 89 Kimble Hill Road\, Williamsport\, 17701\, United States
ATTACH;FMTTYPE=image/png:https://pocofarmroadchurch.b-cdn.net/wp-content/uploads/2025/03/Ladies-Brunch-2025.png
ORGANIZER;CN="Sue Opdahl":MAILTO:fellowship@pocofarmroadchurch.org
END:VEVENT
BEGIN:VEVENT
DTSTART;TZID=America/New_York:20250326T183000
DTEND;TZID=America/New_York:20250326T193000
DTSTAMP:20260420T041952
CREATED:20240829T165502Z
LAST-MODIFIED:20240829T165502Z
UID:30000378-1743013800-1743017400@pocofarmroadchurch.org
SUMMARY:Prayer Meeting
DESCRIPTION:We are currently meeting through Zoom for our Wednesday night prayer meeting. For information about how to join\, please contact the church office at office@pocofarmroadchurch.org.
URL:https://pocofarmroadchurch.org/event/prayer-meeting-2-2/2025-03-26/
LOCATION:Poco Farm Road Church\, 89 Kimble Hill Road\, Williamsport\, 17701\, United States
ATTACH;FMTTYPE=image/jpeg:https://pocofarmroadchurch.b-cdn.net/wp-content/uploads/2024/03/zoom-praryer-meeting.jpg
END:VEVENT
BEGIN:VEVENT
DTSTART;TZID=America/New_York:20250319T183000
DTEND;TZID=America/New_York:20250319T193000
DTSTAMP:20260420T041952
CREATED:20240829T165502Z
LAST-MODIFIED:20240829T165502Z
UID:30000377-1742409000-1742412600@pocofarmroadchurch.org
SUMMARY:Prayer Meeting
DESCRIPTION:We are currently meeting through Zoom for our Wednesday night prayer meeting. For information about how to join\, please contact the church office at office@pocofarmroadchurch.org.
URL:https://pocofarmroadchurch.org/event/prayer-meeting-2-2/2025-03-19/
LOCATION:Poco Farm Road Church\, 89 Kimble Hill Road\, Williamsport\, 17701\, United States
ATTACH;FMTTYPE=image/jpeg:https://pocofarmroadchurch.b-cdn.net/wp-content/uploads/2024/03/zoom-praryer-meeting.jpg
END:VEVENT
BEGIN:VEVENT
DTSTART;TZID=America/New_York:20250312T183000
DTEND;TZID=America/New_York:20250312T193000
DTSTAMP:20260420T041952
CREATED:20240829T165502Z
LAST-MODIFIED:20240829T165502Z
UID:30000376-1741804200-1741807800@pocofarmroadchurch.org
SUMMARY:Prayer Meeting
DESCRIPTION:We are currently meeting through Zoom for our Wednesday night prayer meeting. For information about how to join\, please contact the church office at office@pocofarmroadchurch.org.
URL:https://pocofarmroadchurch.org/event/prayer-meeting-2-2/2025-03-12/
LOCATION:Poco Farm Road Church\, 89 Kimble Hill Road\, Williamsport\, 17701\, United States
ATTACH;FMTTYPE=image/jpeg:https://pocofarmroadchurch.b-cdn.net/wp-content/uploads/2024/03/zoom-praryer-meeting.jpg
END:VEVENT
BEGIN:VEVENT
DTSTART;TZID=America/New_York:20250305T183000
DTEND;TZID=America/New_York:20250305T193000
DTSTAMP:20260420T041952
CREATED:20240829T165502Z
LAST-MODIFIED:20240829T165502Z
UID:30000375-1741199400-1741203000@pocofarmroadchurch.org
SUMMARY:Prayer Meeting
DESCRIPTION:We are currently meeting through Zoom for our Wednesday night prayer meeting. For information about how to join\, please contact the church office at office@pocofarmroadchurch.org.
URL:https://pocofarmroadchurch.org/event/prayer-meeting-2-2/2025-03-05/
LOCATION:Poco Farm Road Church\, 89 Kimble Hill Road\, Williamsport\, 17701\, United States
ATTACH;FMTTYPE=image/jpeg:https://pocofarmroadchurch.b-cdn.net/wp-content/uploads/2024/03/zoom-praryer-meeting.jpg
END:VEVENT
BEGIN:VEVENT
DTSTART;TZID=America/New_York:20250226T183000
DTEND;TZID=America/New_York:20250226T193000
DTSTAMP:20260420T041952
CREATED:20240829T165502Z
LAST-MODIFIED:20240829T165502Z
UID:30000374-1740594600-1740598200@pocofarmroadchurch.org
SUMMARY:Prayer Meeting
DESCRIPTION:We are currently meeting through Zoom for our Wednesday night prayer meeting. For information about how to join\, please contact the church office at office@pocofarmroadchurch.org.
URL:https://pocofarmroadchurch.org/event/prayer-meeting-2-2/2025-02-26/
LOCATION:Poco Farm Road Church\, 89 Kimble Hill Road\, Williamsport\, 17701\, United States
ATTACH;FMTTYPE=image/jpeg:https://pocofarmroadchurch.b-cdn.net/wp-content/uploads/2024/03/zoom-praryer-meeting.jpg
END:VEVENT
BEGIN:VEVENT
DTSTART;TZID=America/New_York:20250219T183000
DTEND;TZID=America/New_York:20250219T193000
DTSTAMP:20260420T041952
CREATED:20240829T165502Z
LAST-MODIFIED:20240829T165502Z
UID:30000373-1739989800-1739993400@pocofarmroadchurch.org
SUMMARY:Prayer Meeting
DESCRIPTION:We are currently meeting through Zoom for our Wednesday night prayer meeting. For information about how to join\, please contact the church office at office@pocofarmroadchurch.org.
URL:https://pocofarmroadchurch.org/event/prayer-meeting-2-2/2025-02-19/
LOCATION:Poco Farm Road Church\, 89 Kimble Hill Road\, Williamsport\, 17701\, United States
ATTACH;FMTTYPE=image/jpeg:https://pocofarmroadchurch.b-cdn.net/wp-content/uploads/2024/03/zoom-praryer-meeting.jpg
END:VEVENT
BEGIN:VEVENT
DTSTART;TZID=America/New_York:20250212T183000
DTEND;TZID=America/New_York:20250212T193000
DTSTAMP:20260420T041952
CREATED:20240829T165502Z
LAST-MODIFIED:20240829T165502Z
UID:30000372-1739385000-1739388600@pocofarmroadchurch.org
SUMMARY:Prayer Meeting
DESCRIPTION:We are currently meeting through Zoom for our Wednesday night prayer meeting. For information about how to join\, please contact the church office at office@pocofarmroadchurch.org.
URL:https://pocofarmroadchurch.org/event/prayer-meeting-2-2/2025-02-12/
LOCATION:Poco Farm Road Church\, 89 Kimble Hill Road\, Williamsport\, 17701\, United States
ATTACH;FMTTYPE=image/jpeg:https://pocofarmroadchurch.b-cdn.net/wp-content/uploads/2024/03/zoom-praryer-meeting.jpg
END:VEVENT
BEGIN:VEVENT
DTSTART;TZID=America/New_York:20250205T183000
DTEND;TZID=America/New_York:20250205T193000
DTSTAMP:20260420T041952
CREATED:20240829T165502Z
LAST-MODIFIED:20240829T165502Z
UID:30000371-1738780200-1738783800@pocofarmroadchurch.org
SUMMARY:Prayer Meeting
DESCRIPTION:We are currently meeting through Zoom for our Wednesday night prayer meeting. For information about how to join\, please contact the church office at office@pocofarmroadchurch.org.
URL:https://pocofarmroadchurch.org/event/prayer-meeting-2-2/2025-02-05/
LOCATION:Poco Farm Road Church\, 89 Kimble Hill Road\, Williamsport\, 17701\, United States
ATTACH;FMTTYPE=image/jpeg:https://pocofarmroadchurch.b-cdn.net/wp-content/uploads/2024/03/zoom-praryer-meeting.jpg
END:VEVENT
BEGIN:VEVENT
DTSTART;TZID=America/New_York:20250129T183000
DTEND;TZID=America/New_York:20250129T193000
DTSTAMP:20260420T041952
CREATED:20240829T165502Z
LAST-MODIFIED:20240829T165502Z
UID:30000370-1738175400-1738179000@pocofarmroadchurch.org
SUMMARY:Prayer Meeting
DESCRIPTION:We are currently meeting through Zoom for our Wednesday night prayer meeting. For information about how to join\, please contact the church office at office@pocofarmroadchurch.org.
URL:https://pocofarmroadchurch.org/event/prayer-meeting-2-2/2025-01-29/
LOCATION:Poco Farm Road Church\, 89 Kimble Hill Road\, Williamsport\, 17701\, United States
ATTACH;FMTTYPE=image/jpeg:https://pocofarmroadchurch.b-cdn.net/wp-content/uploads/2024/03/zoom-praryer-meeting.jpg
END:VEVENT
BEGIN:VEVENT
DTSTART;TZID=America/New_York:20250122T183000
DTEND;TZID=America/New_York:20250122T193000
DTSTAMP:20260420T041952
CREATED:20240829T165502Z
LAST-MODIFIED:20240829T165502Z
UID:30000369-1737570600-1737574200@pocofarmroadchurch.org
SUMMARY:Prayer Meeting
DESCRIPTION:We are currently meeting through Zoom for our Wednesday night prayer meeting. For information about how to join\, please contact the church office at office@pocofarmroadchurch.org.
URL:https://pocofarmroadchurch.org/event/prayer-meeting-2-2/2025-01-22/
LOCATION:Poco Farm Road Church\, 89 Kimble Hill Road\, Williamsport\, 17701\, United States
ATTACH;FMTTYPE=image/jpeg:https://pocofarmroadchurch.b-cdn.net/wp-content/uploads/2024/03/zoom-praryer-meeting.jpg
END:VEVENT
BEGIN:VEVENT
DTSTART;TZID=America/New_York:20250115T183000
DTEND;TZID=America/New_York:20250115T193000
DTSTAMP:20260420T041952
CREATED:20240829T165502Z
LAST-MODIFIED:20240829T165502Z
UID:30000368-1736965800-1736969400@pocofarmroadchurch.org
SUMMARY:Prayer Meeting
DESCRIPTION:We are currently meeting through Zoom for our Wednesday night prayer meeting. For information about how to join\, please contact the church office at office@pocofarmroadchurch.org.
URL:https://pocofarmroadchurch.org/event/prayer-meeting-2-2/2025-01-15/
LOCATION:Poco Farm Road Church\, 89 Kimble Hill Road\, Williamsport\, 17701\, United States
ATTACH;FMTTYPE=image/jpeg:https://pocofarmroadchurch.b-cdn.net/wp-content/uploads/2024/03/zoom-praryer-meeting.jpg
END:VEVENT
BEGIN:VEVENT
DTSTART;TZID=America/New_York:20250108T183000
DTEND;TZID=America/New_York:20250108T193000
DTSTAMP:20260420T041952
CREATED:20240829T165502Z
LAST-MODIFIED:20240829T165502Z
UID:30000367-1736361000-1736364600@pocofarmroadchurch.org
SUMMARY:Prayer Meeting
DESCRIPTION:We are currently meeting through Zoom for our Wednesday night prayer meeting. For information about how to join\, please contact the church office at office@pocofarmroadchurch.org.
URL:https://pocofarmroadchurch.org/event/prayer-meeting-2-2/2025-01-08/
LOCATION:Poco Farm Road Church\, 89 Kimble Hill Road\, Williamsport\, 17701\, United States
ATTACH;FMTTYPE=image/jpeg:https://pocofarmroadchurch.b-cdn.net/wp-content/uploads/2024/03/zoom-praryer-meeting.jpg
END:VEVENT
BEGIN:VEVENT
DTSTART;TZID=America/New_York:20250101T183000
DTEND;TZID=America/New_York:20250101T193000
DTSTAMP:20260420T041952
CREATED:20241211T185959Z
LAST-MODIFIED:20241211T190000Z
UID:30000366-1735756200-1735759800@pocofarmroadchurch.org
SUMMARY:Prayer Meeting
DESCRIPTION:We are currently meeting through Zoom for our Wednesday night prayer meeting. For information about how to join\, please contact the church office at office@pocofarmroadchurch.org.
URL:https://pocofarmroadchurch.org/event/prayer-meeting-2-2-3/
LOCATION:Poco Farm Road Church\, 89 Kimble Hill Road\, Williamsport\, 17701\, United States
ATTACH;FMTTYPE=image/jpeg:https://pocofarmroadchurch.b-cdn.net/wp-content/uploads/2024/03/zoom-praryer-meeting.jpg
END:VEVENT
BEGIN:VEVENT
DTSTART;TZID=America/New_York:20241229T090000
DTEND;TZID=America/New_York:20241229T100000
DTSTAMP:20260420T041952
CREATED:20240222T172203Z
LAST-MODIFIED:20240807T193718Z
UID:30000045-1735462800-1735466400@pocofarmroadchurch.org
SUMMARY:Foundations Class
DESCRIPTION:Foundations meets every Sunday morning.
URL:https://pocofarmroadchurch.org/event/foundations-class/2024-12-29/
LOCATION:Poco Farm Road Church\, 89 Kimble Hill Road\, Williamsport\, 17701\, United States
ATTACH;FMTTYPE=image/jpeg:https://pocofarmroadchurch.b-cdn.net/wp-content/uploads/2024/02/DSC_0088-scaled.jpg
END:VEVENT
BEGIN:VEVENT
DTSTART;TZID=America/New_York:20241225T183000
DTEND;TZID=America/New_York:20241225T193000
DTSTAMP:20260420T041952
CREATED:20241211T185847Z
LAST-MODIFIED:20241211T185847Z
UID:30000365-1735151400-1735155000@pocofarmroadchurch.org
SUMMARY:Prayer Meeting
DESCRIPTION:We are currently meeting through Zoom for our Wednesday night prayer meeting. For information about how to join\, please contact the church office at office@pocofarmroadchurch.org.
URL:https://pocofarmroadchurch.org/event/prayer-meeting-2-2-2/
LOCATION:Poco Farm Road Church\, 89 Kimble Hill Road\, Williamsport\, 17701\, United States
ATTACH;FMTTYPE=image/jpeg:https://pocofarmroadchurch.b-cdn.net/wp-content/uploads/2024/03/zoom-praryer-meeting.jpg
END:VEVENT
BEGIN:VEVENT
DTSTART;TZID=America/New_York:20241222T090000
DTEND;TZID=America/New_York:20241222T100000
DTSTAMP:20260420T041952
CREATED:20240222T172203Z
LAST-MODIFIED:20240807T193718Z
UID:30000044-1734858000-1734861600@pocofarmroadchurch.org
SUMMARY:Foundations Class
DESCRIPTION:Foundations meets every Sunday morning.
URL:https://pocofarmroadchurch.org/event/foundations-class/2024-12-22/
LOCATION:Poco Farm Road Church\, 89 Kimble Hill Road\, Williamsport\, 17701\, United States
ATTACH;FMTTYPE=image/jpeg:https://pocofarmroadchurch.b-cdn.net/wp-content/uploads/2024/02/DSC_0088-scaled.jpg
END:VEVENT
BEGIN:VEVENT
DTSTART;TZID=America/New_York:20241218T183000
DTEND;TZID=America/New_York:20241218T193000
DTSTAMP:20260420T041952
CREATED:20240829T165502Z
LAST-MODIFIED:20240829T165502Z
UID:30000364-1734546600-1734550200@pocofarmroadchurch.org
SUMMARY:Prayer Meeting
DESCRIPTION:We are currently meeting through Zoom for our Wednesday night prayer meeting. For information about how to join\, please contact the church office at office@pocofarmroadchurch.org.
URL:https://pocofarmroadchurch.org/event/prayer-meeting-2-2/2024-12-18/
LOCATION:Poco Farm Road Church\, 89 Kimble Hill Road\, Williamsport\, 17701\, United States
ATTACH;FMTTYPE=image/jpeg:https://pocofarmroadchurch.b-cdn.net/wp-content/uploads/2024/03/zoom-praryer-meeting.jpg
END:VEVENT
BEGIN:VEVENT
DTSTART;TZID=America/New_York:20241215T090000
DTEND;TZID=America/New_York:20241215T100000
DTSTAMP:20260420T041952
CREATED:20240222T172203Z
LAST-MODIFIED:20240807T193718Z
UID:30000043-1734253200-1734256800@pocofarmroadchurch.org
SUMMARY:Foundations Class
DESCRIPTION:Foundations meets every Sunday morning.
URL:https://pocofarmroadchurch.org/event/foundations-class/2024-12-15/
LOCATION:Poco Farm Road Church\, 89 Kimble Hill Road\, Williamsport\, 17701\, United States
ATTACH;FMTTYPE=image/jpeg:https://pocofarmroadchurch.b-cdn.net/wp-content/uploads/2024/02/DSC_0088-scaled.jpg
END:VEVENT
BEGIN:VEVENT
DTSTART;TZID=America/New_York:20241211T183000
DTEND;TZID=America/New_York:20241211T193000
DTSTAMP:20260420T041952
CREATED:20240829T165502Z
LAST-MODIFIED:20240829T165502Z
UID:30000363-1733941800-1733945400@pocofarmroadchurch.org
SUMMARY:Prayer Meeting
DESCRIPTION:We are currently meeting through Zoom for our Wednesday night prayer meeting. For information about how to join\, please contact the church office at office@pocofarmroadchurch.org.
URL:https://pocofarmroadchurch.org/event/prayer-meeting-2-2/2024-12-11/
LOCATION:Poco Farm Road Church\, 89 Kimble Hill Road\, Williamsport\, 17701\, United States
ATTACH;FMTTYPE=image/jpeg:https://pocofarmroadchurch.b-cdn.net/wp-content/uploads/2024/03/zoom-praryer-meeting.jpg
END:VEVENT
BEGIN:VEVENT
DTSTART;TZID=America/New_York:20241208T090000
DTEND;TZID=America/New_York:20241208T100000
DTSTAMP:20260420T041952
CREATED:20240222T172203Z
LAST-MODIFIED:20240807T193718Z
UID:30000042-1733648400-1733652000@pocofarmroadchurch.org
SUMMARY:Foundations Class
DESCRIPTION:Foundations meets every Sunday morning.
URL:https://pocofarmroadchurch.org/event/foundations-class/2024-12-08/
LOCATION:Poco Farm Road Church\, 89 Kimble Hill Road\, Williamsport\, 17701\, United States
ATTACH;FMTTYPE=image/jpeg:https://pocofarmroadchurch.b-cdn.net/wp-content/uploads/2024/02/DSC_0088-scaled.jpg
END:VEVENT
BEGIN:VEVENT
DTSTART;TZID=America/New_York:20241204T183000
DTEND;TZID=America/New_York:20241204T193000
DTSTAMP:20260420T041952
CREATED:20240829T165502Z
LAST-MODIFIED:20240829T165502Z
UID:30000362-1733337000-1733340600@pocofarmroadchurch.org
SUMMARY:Prayer Meeting
DESCRIPTION:We are currently meeting through Zoom for our Wednesday night prayer meeting. For information about how to join\, please contact the church office at office@pocofarmroadchurch.org.
URL:https://pocofarmroadchurch.org/event/prayer-meeting-2-2/2024-12-04/
LOCATION:Poco Farm Road Church\, 89 Kimble Hill Road\, Williamsport\, 17701\, United States
ATTACH;FMTTYPE=image/jpeg:https://pocofarmroadchurch.b-cdn.net/wp-content/uploads/2024/03/zoom-praryer-meeting.jpg
END:VEVENT
BEGIN:VEVENT
DTSTART;TZID=America/New_York:20241201T090000
DTEND;TZID=America/New_York:20241201T100000
DTSTAMP:20260420T041952
CREATED:20240222T172203Z
LAST-MODIFIED:20240807T193718Z
UID:30000041-1733043600-1733047200@pocofarmroadchurch.org
SUMMARY:Foundations Class
DESCRIPTION:Foundations meets every Sunday morning.
URL:https://pocofarmroadchurch.org/event/foundations-class/2024-12-01/
LOCATION:Poco Farm Road Church\, 89 Kimble Hill Road\, Williamsport\, 17701\, United States
ATTACH;FMTTYPE=image/jpeg:https://pocofarmroadchurch.b-cdn.net/wp-content/uploads/2024/02/DSC_0088-scaled.jpg
END:VEVENT
BEGIN:VEVENT
DTSTART;TZID=America/New_York:20241127T183000
DTEND;TZID=America/New_York:20241127T193000
DTSTAMP:20260420T041952
CREATED:20240829T165502Z
LAST-MODIFIED:20240829T165502Z
UID:30000361-1732732200-1732735800@pocofarmroadchurch.org
SUMMARY:Prayer Meeting
DESCRIPTION:We are currently meeting through Zoom for our Wednesday night prayer meeting. For information about how to join\, please contact the church office at office@pocofarmroadchurch.org.
URL:https://pocofarmroadchurch.org/event/prayer-meeting-2-2/2024-11-27/
LOCATION:Poco Farm Road Church\, 89 Kimble Hill Road\, Williamsport\, 17701\, United States
ATTACH;FMTTYPE=image/jpeg:https://pocofarmroadchurch.b-cdn.net/wp-content/uploads/2024/03/zoom-praryer-meeting.jpg
END:VEVENT
BEGIN:VEVENT
DTSTART;TZID=America/New_York:20241124T090000
DTEND;TZID=America/New_York:20241124T100000
DTSTAMP:20260420T041952
CREATED:20240222T172203Z
LAST-MODIFIED:20240807T193718Z
UID:30000040-1732438800-1732442400@pocofarmroadchurch.org
SUMMARY:Foundations Class
DESCRIPTION:Foundations meets every Sunday morning.
URL:https://pocofarmroadchurch.org/event/foundations-class/2024-11-24/
LOCATION:Poco Farm Road Church\, 89 Kimble Hill Road\, Williamsport\, 17701\, United States
ATTACH;FMTTYPE=image/jpeg:https://pocofarmroadchurch.b-cdn.net/wp-content/uploads/2024/02/DSC_0088-scaled.jpg
END:VEVENT
BEGIN:VEVENT
DTSTART;TZID=America/New_York:20241120T183000
DTEND;TZID=America/New_York:20241120T193000
DTSTAMP:20260420T041952
CREATED:20240829T165502Z
LAST-MODIFIED:20240829T165502Z
UID:30000360-1732127400-1732131000@pocofarmroadchurch.org
SUMMARY:Prayer Meeting
DESCRIPTION:We are currently meeting through Zoom for our Wednesday night prayer meeting. For information about how to join\, please contact the church office at office@pocofarmroadchurch.org.
URL:https://pocofarmroadchurch.org/event/prayer-meeting-2-2/2024-11-20/
LOCATION:Poco Farm Road Church\, 89 Kimble Hill Road\, Williamsport\, 17701\, United States
ATTACH;FMTTYPE=image/jpeg:https://pocofarmroadchurch.b-cdn.net/wp-content/uploads/2024/03/zoom-praryer-meeting.jpg
END:VEVENT
BEGIN:VEVENT
DTSTART;TZID=America/New_York:20241117T090000
DTEND;TZID=America/New_York:20241117T100000
DTSTAMP:20260420T041952
CREATED:20240222T172203Z
LAST-MODIFIED:20240807T193718Z
UID:30000039-1731834000-1731837600@pocofarmroadchurch.org
SUMMARY:Foundations Class
DESCRIPTION:Foundations meets every Sunday morning.
URL:https://pocofarmroadchurch.org/event/foundations-class/2024-11-17/
LOCATION:Poco Farm Road Church\, 89 Kimble Hill Road\, Williamsport\, 17701\, United States
ATTACH;FMTTYPE=image/jpeg:https://pocofarmroadchurch.b-cdn.net/wp-content/uploads/2024/02/DSC_0088-scaled.jpg
END:VEVENT
BEGIN:VEVENT
DTSTART;TZID=America/New_York:20241116T100000
DTEND;TZID=America/New_York:20241116T113000
DTSTAMP:20260420T041952
CREATED:20241009T184042Z
LAST-MODIFIED:20241009T184042Z
UID:30001333-1731751200-1731756600@pocofarmroadchurch.org
SUMMARY:Ladies Brunch
DESCRIPTION:Ladies\, join us for breakfast and a time of Thanksgiving Day reflections.
URL:https://pocofarmroadchurch.org/event/ladies-brunch/
LOCATION:Poco Farm Road Church\, 89 Kimble Hill Road\, Williamsport\, 17701\, United States
ATTACH;FMTTYPE=image/jpeg:https://pocofarmroadchurch.b-cdn.net/wp-content/uploads/2024/08/Ladies-group.jpg
END:VEVENT
END:VCALENDAR