BEGIN:VCALENDAR
VERSION:2.0
PRODID:-//Poco Farm Road Church - ECPv6.9.0//NONSGML v1.0//EN
CALSCALE:GREGORIAN
METHOD:PUBLISH
X-WR-CALNAME:Poco Farm Road Church
X-ORIGINAL-URL:https://pocofarmroadchurch.org
X-WR-CALDESC:Events for Poco Farm Road Church
REFRESH-INTERVAL;VALUE=DURATION:PT1H
X-Robots-Tag:noindex
X-PUBLISHED-TTL:PT1H
BEGIN:VTIMEZONE
TZID:America/New_York
BEGIN:DAYLIGHT
TZOFFSETFROM:-0500
TZOFFSETTO:-0400
TZNAME:EDT
DTSTART:20270314T070000
END:DAYLIGHT
BEGIN:STANDARD
TZOFFSETFROM:-0400
TZOFFSETTO:-0500
TZNAME:EST
DTSTART:20271107T060000
END:STANDARD
BEGIN:DAYLIGHT
TZOFFSETFROM:-0500
TZOFFSETTO:-0400
TZNAME:EDT
DTSTART:20280312T070000
END:DAYLIGHT
BEGIN:STANDARD
TZOFFSETFROM:-0400
TZOFFSETTO:-0500
TZNAME:EST
DTSTART:20281105T060000
END:STANDARD
END:VTIMEZONE
BEGIN:VEVENT
DTSTART;TZID=America/New_York:20270616T183000
DTEND;TZID=America/New_York:20270616T193000
DTSTAMP:20260421T200802
CREATED:20251016T165755Z
LAST-MODIFIED:20251016T165756Z
UID:30000494-1813170600-1813174200@pocofarmroadchurch.org
SUMMARY:Prayer Meeting
DESCRIPTION:We are currently meeting virtually for prayer meeting on Zoom. For information about how to join\, please contact the church office at office@pocofarmroadchurch.org.
URL:https://pocofarmroadchurch.org/event/prayer-meeting-2-2-5-2-2/2027-06-16/
LOCATION:Poco Farm Road Church\, 89 Kimble Hill Road\, Williamsport\, 17701\, United States
ATTACH;FMTTYPE=image/jpeg:https://pocofarmroadchurch.b-cdn.net/wp-content/uploads/2024/03/zoom-praryer-meeting.jpg
END:VEVENT
BEGIN:VEVENT
DTSTART;TZID=America/New_York:20270623T183000
DTEND;TZID=America/New_York:20270623T193000
DTSTAMP:20260421T200802
CREATED:20251016T165755Z
LAST-MODIFIED:20251016T165756Z
UID:30000495-1813775400-1813779000@pocofarmroadchurch.org
SUMMARY:Prayer Meeting
DESCRIPTION:We are currently meeting virtually for prayer meeting on Zoom. For information about how to join\, please contact the church office at office@pocofarmroadchurch.org.
URL:https://pocofarmroadchurch.org/event/prayer-meeting-2-2-5-2-2/2027-06-23/
LOCATION:Poco Farm Road Church\, 89 Kimble Hill Road\, Williamsport\, 17701\, United States
ATTACH;FMTTYPE=image/jpeg:https://pocofarmroadchurch.b-cdn.net/wp-content/uploads/2024/03/zoom-praryer-meeting.jpg
END:VEVENT
BEGIN:VEVENT
DTSTART;TZID=America/New_York:20270630T183000
DTEND;TZID=America/New_York:20270630T193000
DTSTAMP:20260421T200802
CREATED:20251016T165755Z
LAST-MODIFIED:20251016T165756Z
UID:30000496-1814380200-1814383800@pocofarmroadchurch.org
SUMMARY:Prayer Meeting
DESCRIPTION:We are currently meeting virtually for prayer meeting on Zoom. For information about how to join\, please contact the church office at office@pocofarmroadchurch.org.
URL:https://pocofarmroadchurch.org/event/prayer-meeting-2-2-5-2-2/2027-06-30/
LOCATION:Poco Farm Road Church\, 89 Kimble Hill Road\, Williamsport\, 17701\, United States
ATTACH;FMTTYPE=image/jpeg:https://pocofarmroadchurch.b-cdn.net/wp-content/uploads/2024/03/zoom-praryer-meeting.jpg
END:VEVENT
BEGIN:VEVENT
DTSTART;TZID=America/New_York:20270707T183000
DTEND;TZID=America/New_York:20270707T193000
DTSTAMP:20260421T200802
CREATED:20251016T165755Z
LAST-MODIFIED:20251016T165756Z
UID:30000497-1814985000-1814988600@pocofarmroadchurch.org
SUMMARY:Prayer Meeting
DESCRIPTION:We are currently meeting virtually for prayer meeting on Zoom. For information about how to join\, please contact the church office at office@pocofarmroadchurch.org.
URL:https://pocofarmroadchurch.org/event/prayer-meeting-2-2-5-2-2/2027-07-07/
LOCATION:Poco Farm Road Church\, 89 Kimble Hill Road\, Williamsport\, 17701\, United States
ATTACH;FMTTYPE=image/jpeg:https://pocofarmroadchurch.b-cdn.net/wp-content/uploads/2024/03/zoom-praryer-meeting.jpg
END:VEVENT
BEGIN:VEVENT
DTSTART;TZID=America/New_York:20270714T183000
DTEND;TZID=America/New_York:20270714T193000
DTSTAMP:20260421T200802
CREATED:20251016T165755Z
LAST-MODIFIED:20251016T165756Z
UID:30000498-1815589800-1815593400@pocofarmroadchurch.org
SUMMARY:Prayer Meeting
DESCRIPTION:We are currently meeting virtually for prayer meeting on Zoom. For information about how to join\, please contact the church office at office@pocofarmroadchurch.org.
URL:https://pocofarmroadchurch.org/event/prayer-meeting-2-2-5-2-2/2027-07-14/
LOCATION:Poco Farm Road Church\, 89 Kimble Hill Road\, Williamsport\, 17701\, United States
ATTACH;FMTTYPE=image/jpeg:https://pocofarmroadchurch.b-cdn.net/wp-content/uploads/2024/03/zoom-praryer-meeting.jpg
END:VEVENT
BEGIN:VEVENT
DTSTART;TZID=America/New_York:20270721T183000
DTEND;TZID=America/New_York:20270721T193000
DTSTAMP:20260421T200802
CREATED:20251016T165755Z
LAST-MODIFIED:20251016T165756Z
UID:30000499-1816194600-1816198200@pocofarmroadchurch.org
SUMMARY:Prayer Meeting
DESCRIPTION:We are currently meeting virtually for prayer meeting on Zoom. For information about how to join\, please contact the church office at office@pocofarmroadchurch.org.
URL:https://pocofarmroadchurch.org/event/prayer-meeting-2-2-5-2-2/2027-07-21/
LOCATION:Poco Farm Road Church\, 89 Kimble Hill Road\, Williamsport\, 17701\, United States
ATTACH;FMTTYPE=image/jpeg:https://pocofarmroadchurch.b-cdn.net/wp-content/uploads/2024/03/zoom-praryer-meeting.jpg
END:VEVENT
BEGIN:VEVENT
DTSTART;TZID=America/New_York:20270728T183000
DTEND;TZID=America/New_York:20270728T193000
DTSTAMP:20260421T200802
CREATED:20251016T165755Z
LAST-MODIFIED:20251016T165756Z
UID:30000500-1816799400-1816803000@pocofarmroadchurch.org
SUMMARY:Prayer Meeting
DESCRIPTION:We are currently meeting virtually for prayer meeting on Zoom. For information about how to join\, please contact the church office at office@pocofarmroadchurch.org.
URL:https://pocofarmroadchurch.org/event/prayer-meeting-2-2-5-2-2/2027-07-28/
LOCATION:Poco Farm Road Church\, 89 Kimble Hill Road\, Williamsport\, 17701\, United States
ATTACH;FMTTYPE=image/jpeg:https://pocofarmroadchurch.b-cdn.net/wp-content/uploads/2024/03/zoom-praryer-meeting.jpg
END:VEVENT
BEGIN:VEVENT
DTSTART;TZID=America/New_York:20270804T183000
DTEND;TZID=America/New_York:20270804T193000
DTSTAMP:20260421T200802
CREATED:20251016T165755Z
LAST-MODIFIED:20251016T165756Z
UID:30000501-1817404200-1817407800@pocofarmroadchurch.org
SUMMARY:Prayer Meeting
DESCRIPTION:We are currently meeting virtually for prayer meeting on Zoom. For information about how to join\, please contact the church office at office@pocofarmroadchurch.org.
URL:https://pocofarmroadchurch.org/event/prayer-meeting-2-2-5-2-2/2027-08-04/
LOCATION:Poco Farm Road Church\, 89 Kimble Hill Road\, Williamsport\, 17701\, United States
ATTACH;FMTTYPE=image/jpeg:https://pocofarmroadchurch.b-cdn.net/wp-content/uploads/2024/03/zoom-praryer-meeting.jpg
END:VEVENT
BEGIN:VEVENT
DTSTART;TZID=America/New_York:20270811T183000
DTEND;TZID=America/New_York:20270811T193000
DTSTAMP:20260421T200802
CREATED:20251016T165755Z
LAST-MODIFIED:20251016T165756Z
UID:30000502-1818009000-1818012600@pocofarmroadchurch.org
SUMMARY:Prayer Meeting
DESCRIPTION:We are currently meeting virtually for prayer meeting on Zoom. For information about how to join\, please contact the church office at office@pocofarmroadchurch.org.
URL:https://pocofarmroadchurch.org/event/prayer-meeting-2-2-5-2-2/2027-08-11/
LOCATION:Poco Farm Road Church\, 89 Kimble Hill Road\, Williamsport\, 17701\, United States
ATTACH;FMTTYPE=image/jpeg:https://pocofarmroadchurch.b-cdn.net/wp-content/uploads/2024/03/zoom-praryer-meeting.jpg
END:VEVENT
BEGIN:VEVENT
DTSTART;TZID=America/New_York:20270818T183000
DTEND;TZID=America/New_York:20270818T193000
DTSTAMP:20260421T200802
CREATED:20251016T165755Z
LAST-MODIFIED:20251016T165756Z
UID:30000503-1818613800-1818617400@pocofarmroadchurch.org
SUMMARY:Prayer Meeting
DESCRIPTION:We are currently meeting virtually for prayer meeting on Zoom. For information about how to join\, please contact the church office at office@pocofarmroadchurch.org.
URL:https://pocofarmroadchurch.org/event/prayer-meeting-2-2-5-2-2/2027-08-18/
LOCATION:Poco Farm Road Church\, 89 Kimble Hill Road\, Williamsport\, 17701\, United States
ATTACH;FMTTYPE=image/jpeg:https://pocofarmroadchurch.b-cdn.net/wp-content/uploads/2024/03/zoom-praryer-meeting.jpg
END:VEVENT
BEGIN:VEVENT
DTSTART;TZID=America/New_York:20270825T183000
DTEND;TZID=America/New_York:20270825T193000
DTSTAMP:20260421T200802
CREATED:20251016T165755Z
LAST-MODIFIED:20251016T165756Z
UID:30000504-1819218600-1819222200@pocofarmroadchurch.org
SUMMARY:Prayer Meeting
DESCRIPTION:We are currently meeting virtually for prayer meeting on Zoom. For information about how to join\, please contact the church office at office@pocofarmroadchurch.org.
URL:https://pocofarmroadchurch.org/event/prayer-meeting-2-2-5-2-2/2027-08-25/
LOCATION:Poco Farm Road Church\, 89 Kimble Hill Road\, Williamsport\, 17701\, United States
ATTACH;FMTTYPE=image/jpeg:https://pocofarmroadchurch.b-cdn.net/wp-content/uploads/2024/03/zoom-praryer-meeting.jpg
END:VEVENT
BEGIN:VEVENT
DTSTART;TZID=America/New_York:20270901T183000
DTEND;TZID=America/New_York:20270901T193000
DTSTAMP:20260421T200802
CREATED:20251016T165755Z
LAST-MODIFIED:20251016T165756Z
UID:30000505-1819823400-1819827000@pocofarmroadchurch.org
SUMMARY:Prayer Meeting
DESCRIPTION:We are currently meeting virtually for prayer meeting on Zoom. For information about how to join\, please contact the church office at office@pocofarmroadchurch.org.
URL:https://pocofarmroadchurch.org/event/prayer-meeting-2-2-5-2-2/2027-09-01/
LOCATION:Poco Farm Road Church\, 89 Kimble Hill Road\, Williamsport\, 17701\, United States
ATTACH;FMTTYPE=image/jpeg:https://pocofarmroadchurch.b-cdn.net/wp-content/uploads/2024/03/zoom-praryer-meeting.jpg
END:VEVENT
BEGIN:VEVENT
DTSTART;TZID=America/New_York:20270908T183000
DTEND;TZID=America/New_York:20270908T193000
DTSTAMP:20260421T200802
CREATED:20251016T165755Z
LAST-MODIFIED:20251016T165756Z
UID:30000506-1820428200-1820431800@pocofarmroadchurch.org
SUMMARY:Prayer Meeting
DESCRIPTION:We are currently meeting virtually for prayer meeting on Zoom. For information about how to join\, please contact the church office at office@pocofarmroadchurch.org.
URL:https://pocofarmroadchurch.org/event/prayer-meeting-2-2-5-2-2/2027-09-08/
LOCATION:Poco Farm Road Church\, 89 Kimble Hill Road\, Williamsport\, 17701\, United States
ATTACH;FMTTYPE=image/jpeg:https://pocofarmroadchurch.b-cdn.net/wp-content/uploads/2024/03/zoom-praryer-meeting.jpg
END:VEVENT
BEGIN:VEVENT
DTSTART;TZID=America/New_York:20270915T183000
DTEND;TZID=America/New_York:20270915T193000
DTSTAMP:20260421T200802
CREATED:20251016T165755Z
LAST-MODIFIED:20251016T165756Z
UID:30000507-1821033000-1821036600@pocofarmroadchurch.org
SUMMARY:Prayer Meeting
DESCRIPTION:We are currently meeting virtually for prayer meeting on Zoom. For information about how to join\, please contact the church office at office@pocofarmroadchurch.org.
URL:https://pocofarmroadchurch.org/event/prayer-meeting-2-2-5-2-2/2027-09-15/
LOCATION:Poco Farm Road Church\, 89 Kimble Hill Road\, Williamsport\, 17701\, United States
ATTACH;FMTTYPE=image/jpeg:https://pocofarmroadchurch.b-cdn.net/wp-content/uploads/2024/03/zoom-praryer-meeting.jpg
END:VEVENT
BEGIN:VEVENT
DTSTART;TZID=America/New_York:20270922T183000
DTEND;TZID=America/New_York:20270922T193000
DTSTAMP:20260421T200802
CREATED:20251016T165755Z
LAST-MODIFIED:20251016T165756Z
UID:30000508-1821637800-1821641400@pocofarmroadchurch.org
SUMMARY:Prayer Meeting
DESCRIPTION:We are currently meeting virtually for prayer meeting on Zoom. For information about how to join\, please contact the church office at office@pocofarmroadchurch.org.
URL:https://pocofarmroadchurch.org/event/prayer-meeting-2-2-5-2-2/2027-09-22/
LOCATION:Poco Farm Road Church\, 89 Kimble Hill Road\, Williamsport\, 17701\, United States
ATTACH;FMTTYPE=image/jpeg:https://pocofarmroadchurch.b-cdn.net/wp-content/uploads/2024/03/zoom-praryer-meeting.jpg
END:VEVENT
BEGIN:VEVENT
DTSTART;TZID=America/New_York:20270929T183000
DTEND;TZID=America/New_York:20270929T193000
DTSTAMP:20260421T200802
CREATED:20251016T165755Z
LAST-MODIFIED:20251016T165756Z
UID:30000509-1822242600-1822246200@pocofarmroadchurch.org
SUMMARY:Prayer Meeting
DESCRIPTION:We are currently meeting virtually for prayer meeting on Zoom. For information about how to join\, please contact the church office at office@pocofarmroadchurch.org.
URL:https://pocofarmroadchurch.org/event/prayer-meeting-2-2-5-2-2/2027-09-29/
LOCATION:Poco Farm Road Church\, 89 Kimble Hill Road\, Williamsport\, 17701\, United States
ATTACH;FMTTYPE=image/jpeg:https://pocofarmroadchurch.b-cdn.net/wp-content/uploads/2024/03/zoom-praryer-meeting.jpg
END:VEVENT
BEGIN:VEVENT
DTSTART;TZID=America/New_York:20271006T183000
DTEND;TZID=America/New_York:20271006T193000
DTSTAMP:20260421T200802
CREATED:20251016T165755Z
LAST-MODIFIED:20251016T165756Z
UID:30000510-1822847400-1822851000@pocofarmroadchurch.org
SUMMARY:Prayer Meeting
DESCRIPTION:We are currently meeting virtually for prayer meeting on Zoom. For information about how to join\, please contact the church office at office@pocofarmroadchurch.org.
URL:https://pocofarmroadchurch.org/event/prayer-meeting-2-2-5-2-2/2027-10-06/
LOCATION:Poco Farm Road Church\, 89 Kimble Hill Road\, Williamsport\, 17701\, United States
ATTACH;FMTTYPE=image/jpeg:https://pocofarmroadchurch.b-cdn.net/wp-content/uploads/2024/03/zoom-praryer-meeting.jpg
END:VEVENT
BEGIN:VEVENT
DTSTART;TZID=America/New_York:20271013T183000
DTEND;TZID=America/New_York:20271013T193000
DTSTAMP:20260421T200802
CREATED:20251016T165755Z
LAST-MODIFIED:20251016T165756Z
UID:30000511-1823452200-1823455800@pocofarmroadchurch.org
SUMMARY:Prayer Meeting
DESCRIPTION:We are currently meeting virtually for prayer meeting on Zoom. For information about how to join\, please contact the church office at office@pocofarmroadchurch.org.
URL:https://pocofarmroadchurch.org/event/prayer-meeting-2-2-5-2-2/2027-10-13/
LOCATION:Poco Farm Road Church\, 89 Kimble Hill Road\, Williamsport\, 17701\, United States
ATTACH;FMTTYPE=image/jpeg:https://pocofarmroadchurch.b-cdn.net/wp-content/uploads/2024/03/zoom-praryer-meeting.jpg
END:VEVENT
BEGIN:VEVENT
DTSTART;TZID=America/New_York:20271020T183000
DTEND;TZID=America/New_York:20271020T193000
DTSTAMP:20260421T200802
CREATED:20251016T165755Z
LAST-MODIFIED:20251016T165756Z
UID:30000512-1824057000-1824060600@pocofarmroadchurch.org
SUMMARY:Prayer Meeting
DESCRIPTION:We are currently meeting virtually for prayer meeting on Zoom. For information about how to join\, please contact the church office at office@pocofarmroadchurch.org.
URL:https://pocofarmroadchurch.org/event/prayer-meeting-2-2-5-2-2/2027-10-20/
LOCATION:Poco Farm Road Church\, 89 Kimble Hill Road\, Williamsport\, 17701\, United States
ATTACH;FMTTYPE=image/jpeg:https://pocofarmroadchurch.b-cdn.net/wp-content/uploads/2024/03/zoom-praryer-meeting.jpg
END:VEVENT
BEGIN:VEVENT
DTSTART;TZID=America/New_York:20271027T183000
DTEND;TZID=America/New_York:20271027T193000
DTSTAMP:20260421T200802
CREATED:20251016T165755Z
LAST-MODIFIED:20251016T165756Z
UID:30000513-1824661800-1824665400@pocofarmroadchurch.org
SUMMARY:Prayer Meeting
DESCRIPTION:We are currently meeting virtually for prayer meeting on Zoom. For information about how to join\, please contact the church office at office@pocofarmroadchurch.org.
URL:https://pocofarmroadchurch.org/event/prayer-meeting-2-2-5-2-2/2027-10-27/
LOCATION:Poco Farm Road Church\, 89 Kimble Hill Road\, Williamsport\, 17701\, United States
ATTACH;FMTTYPE=image/jpeg:https://pocofarmroadchurch.b-cdn.net/wp-content/uploads/2024/03/zoom-praryer-meeting.jpg
END:VEVENT
BEGIN:VEVENT
DTSTART;TZID=America/New_York:20271103T183000
DTEND;TZID=America/New_York:20271103T193000
DTSTAMP:20260421T200802
CREATED:20251016T165755Z
LAST-MODIFIED:20251016T165756Z
UID:30000514-1825266600-1825270200@pocofarmroadchurch.org
SUMMARY:Prayer Meeting
DESCRIPTION:We are currently meeting virtually for prayer meeting on Zoom. For information about how to join\, please contact the church office at office@pocofarmroadchurch.org.
URL:https://pocofarmroadchurch.org/event/prayer-meeting-2-2-5-2-2/2027-11-03/
LOCATION:Poco Farm Road Church\, 89 Kimble Hill Road\, Williamsport\, 17701\, United States
ATTACH;FMTTYPE=image/jpeg:https://pocofarmroadchurch.b-cdn.net/wp-content/uploads/2024/03/zoom-praryer-meeting.jpg
END:VEVENT
BEGIN:VEVENT
DTSTART;TZID=America/New_York:20271110T183000
DTEND;TZID=America/New_York:20271110T193000
DTSTAMP:20260421T200802
CREATED:20251016T165755Z
LAST-MODIFIED:20251016T165756Z
UID:30000515-1825871400-1825875000@pocofarmroadchurch.org
SUMMARY:Prayer Meeting
DESCRIPTION:We are currently meeting virtually for prayer meeting on Zoom. For information about how to join\, please contact the church office at office@pocofarmroadchurch.org.
URL:https://pocofarmroadchurch.org/event/prayer-meeting-2-2-5-2-2/2027-11-10/
LOCATION:Poco Farm Road Church\, 89 Kimble Hill Road\, Williamsport\, 17701\, United States
ATTACH;FMTTYPE=image/jpeg:https://pocofarmroadchurch.b-cdn.net/wp-content/uploads/2024/03/zoom-praryer-meeting.jpg
END:VEVENT
BEGIN:VEVENT
DTSTART;TZID=America/New_York:20271117T183000
DTEND;TZID=America/New_York:20271117T193000
DTSTAMP:20260421T200802
CREATED:20251016T165755Z
LAST-MODIFIED:20251016T165756Z
UID:30000516-1826476200-1826479800@pocofarmroadchurch.org
SUMMARY:Prayer Meeting
DESCRIPTION:We are currently meeting virtually for prayer meeting on Zoom. For information about how to join\, please contact the church office at office@pocofarmroadchurch.org.
URL:https://pocofarmroadchurch.org/event/prayer-meeting-2-2-5-2-2/2027-11-17/
LOCATION:Poco Farm Road Church\, 89 Kimble Hill Road\, Williamsport\, 17701\, United States
ATTACH;FMTTYPE=image/jpeg:https://pocofarmroadchurch.b-cdn.net/wp-content/uploads/2024/03/zoom-praryer-meeting.jpg
END:VEVENT
BEGIN:VEVENT
DTSTART;TZID=America/New_York:20271124T183000
DTEND;TZID=America/New_York:20271124T193000
DTSTAMP:20260421T200802
CREATED:20251016T165755Z
LAST-MODIFIED:20251016T165756Z
UID:30000517-1827081000-1827084600@pocofarmroadchurch.org
SUMMARY:Prayer Meeting
DESCRIPTION:We are currently meeting virtually for prayer meeting on Zoom. For information about how to join\, please contact the church office at office@pocofarmroadchurch.org.
URL:https://pocofarmroadchurch.org/event/prayer-meeting-2-2-5-2-2/2027-11-24/
LOCATION:Poco Farm Road Church\, 89 Kimble Hill Road\, Williamsport\, 17701\, United States
ATTACH;FMTTYPE=image/jpeg:https://pocofarmroadchurch.b-cdn.net/wp-content/uploads/2024/03/zoom-praryer-meeting.jpg
END:VEVENT
BEGIN:VEVENT
DTSTART;TZID=America/New_York:20271201T183000
DTEND;TZID=America/New_York:20271201T193000
DTSTAMP:20260421T200802
CREATED:20251016T165755Z
LAST-MODIFIED:20251016T165756Z
UID:30000518-1827685800-1827689400@pocofarmroadchurch.org
SUMMARY:Prayer Meeting
DESCRIPTION:We are currently meeting virtually for prayer meeting on Zoom. For information about how to join\, please contact the church office at office@pocofarmroadchurch.org.
URL:https://pocofarmroadchurch.org/event/prayer-meeting-2-2-5-2-2/2027-12-01/
LOCATION:Poco Farm Road Church\, 89 Kimble Hill Road\, Williamsport\, 17701\, United States
ATTACH;FMTTYPE=image/jpeg:https://pocofarmroadchurch.b-cdn.net/wp-content/uploads/2024/03/zoom-praryer-meeting.jpg
END:VEVENT
BEGIN:VEVENT
DTSTART;TZID=America/New_York:20271208T183000
DTEND;TZID=America/New_York:20271208T193000
DTSTAMP:20260421T200802
CREATED:20251016T165755Z
LAST-MODIFIED:20251016T165756Z
UID:30000519-1828290600-1828294200@pocofarmroadchurch.org
SUMMARY:Prayer Meeting
DESCRIPTION:We are currently meeting virtually for prayer meeting on Zoom. For information about how to join\, please contact the church office at office@pocofarmroadchurch.org.
URL:https://pocofarmroadchurch.org/event/prayer-meeting-2-2-5-2-2/2027-12-08/
LOCATION:Poco Farm Road Church\, 89 Kimble Hill Road\, Williamsport\, 17701\, United States
ATTACH;FMTTYPE=image/jpeg:https://pocofarmroadchurch.b-cdn.net/wp-content/uploads/2024/03/zoom-praryer-meeting.jpg
END:VEVENT
BEGIN:VEVENT
DTSTART;TZID=America/New_York:20271215T183000
DTEND;TZID=America/New_York:20271215T193000
DTSTAMP:20260421T200802
CREATED:20251016T165755Z
LAST-MODIFIED:20251016T165756Z
UID:30000520-1828895400-1828899000@pocofarmroadchurch.org
SUMMARY:Prayer Meeting
DESCRIPTION:We are currently meeting virtually for prayer meeting on Zoom. For information about how to join\, please contact the church office at office@pocofarmroadchurch.org.
URL:https://pocofarmroadchurch.org/event/prayer-meeting-2-2-5-2-2/2027-12-15/
LOCATION:Poco Farm Road Church\, 89 Kimble Hill Road\, Williamsport\, 17701\, United States
ATTACH;FMTTYPE=image/jpeg:https://pocofarmroadchurch.b-cdn.net/wp-content/uploads/2024/03/zoom-praryer-meeting.jpg
END:VEVENT
BEGIN:VEVENT
DTSTART;TZID=America/New_York:20271222T183000
DTEND;TZID=America/New_York:20271222T193000
DTSTAMP:20260421T200802
CREATED:20251016T165755Z
LAST-MODIFIED:20251016T165756Z
UID:30000521-1829500200-1829503800@pocofarmroadchurch.org
SUMMARY:Prayer Meeting
DESCRIPTION:We are currently meeting virtually for prayer meeting on Zoom. For information about how to join\, please contact the church office at office@pocofarmroadchurch.org.
URL:https://pocofarmroadchurch.org/event/prayer-meeting-2-2-5-2-2/2027-12-22/
LOCATION:Poco Farm Road Church\, 89 Kimble Hill Road\, Williamsport\, 17701\, United States
ATTACH;FMTTYPE=image/jpeg:https://pocofarmroadchurch.b-cdn.net/wp-content/uploads/2024/03/zoom-praryer-meeting.jpg
END:VEVENT
BEGIN:VEVENT
DTSTART;TZID=America/New_York:20271229T183000
DTEND;TZID=America/New_York:20271229T193000
DTSTAMP:20260421T200802
CREATED:20251016T165755Z
LAST-MODIFIED:20251016T165756Z
UID:30000522-1830105000-1830108600@pocofarmroadchurch.org
SUMMARY:Prayer Meeting
DESCRIPTION:We are currently meeting virtually for prayer meeting on Zoom. For information about how to join\, please contact the church office at office@pocofarmroadchurch.org.
URL:https://pocofarmroadchurch.org/event/prayer-meeting-2-2-5-2-2/2027-12-29/
LOCATION:Poco Farm Road Church\, 89 Kimble Hill Road\, Williamsport\, 17701\, United States
ATTACH;FMTTYPE=image/jpeg:https://pocofarmroadchurch.b-cdn.net/wp-content/uploads/2024/03/zoom-praryer-meeting.jpg
END:VEVENT
BEGIN:VEVENT
DTSTART;TZID=America/New_York:20280105T183000
DTEND;TZID=America/New_York:20280105T193000
DTSTAMP:20260421T200802
CREATED:20251016T165755Z
LAST-MODIFIED:20251016T165756Z
UID:30000523-1830709800-1830713400@pocofarmroadchurch.org
SUMMARY:Prayer Meeting
DESCRIPTION:We are currently meeting virtually for prayer meeting on Zoom. For information about how to join\, please contact the church office at office@pocofarmroadchurch.org.
URL:https://pocofarmroadchurch.org/event/prayer-meeting-2-2-5-2-2/2028-01-05/
LOCATION:Poco Farm Road Church\, 89 Kimble Hill Road\, Williamsport\, 17701\, United States
ATTACH;FMTTYPE=image/jpeg:https://pocofarmroadchurch.b-cdn.net/wp-content/uploads/2024/03/zoom-praryer-meeting.jpg
END:VEVENT
END:VCALENDAR