BEGIN:VCALENDAR
VERSION:2.0
PRODID:-//Poco Farm Road Church - ECPv6.9.0//NONSGML v1.0//EN
CALSCALE:GREGORIAN
METHOD:PUBLISH
X-WR-CALNAME:Poco Farm Road Church
X-ORIGINAL-URL:https://pocofarmroadchurch.org
X-WR-CALDESC:Events for Poco Farm Road Church
REFRESH-INTERVAL;VALUE=DURATION:PT1H
X-Robots-Tag:noindex
X-PUBLISHED-TTL:PT1H
BEGIN:VTIMEZONE
TZID:America/New_York
BEGIN:DAYLIGHT
TZOFFSETFROM:-0500
TZOFFSETTO:-0400
TZNAME:EDT
DTSTART:20240310T070000
END:DAYLIGHT
BEGIN:STANDARD
TZOFFSETFROM:-0400
TZOFFSETTO:-0500
TZNAME:EST
DTSTART:20241103T060000
END:STANDARD
END:VTIMEZONE
BEGIN:VEVENT
DTSTART;TZID=America/New_York:20241025T173000
DTEND;TZID=America/New_York:20241025T190000
DTSTAMP:20260420T093853
CREATED:20240807T194531Z
LAST-MODIFIED:20240808T161904Z
UID:30001198-1729877400-1729882800@pocofarmroadchurch.org
SUMMARY:Trunk or Treat
DESCRIPTION:Come for a hot dog meal\, yard games\, and a round of Trunk or Treat!
URL:https://pocofarmroadchurch.org/event/trunk-or-treat/
LOCATION:Poco Farm Road Church\, 89 Kimble Hill Road\, Williamsport\, 17701\, United States
ATTACH;FMTTYPE=image/jpeg:https://pocofarmroadchurch.b-cdn.net/wp-content/uploads/2024/08/Trunk-or-Treat.jpg
END:VEVENT
BEGIN:VEVENT
DTSTART;TZID=America/New_York:20241023T183000
DTEND;TZID=America/New_York:20241023T193000
DTSTAMP:20260420T093853
CREATED:20240829T165502Z
LAST-MODIFIED:20240829T165502Z
UID:30000356-1729708200-1729711800@pocofarmroadchurch.org
SUMMARY:Prayer Meeting
DESCRIPTION:We are currently meeting through Zoom for our Wednesday night prayer meeting. For information about how to join\, please contact the church office at office@pocofarmroadchurch.org.
URL:https://pocofarmroadchurch.org/event/prayer-meeting-2-2/2024-10-23/
LOCATION:Poco Farm Road Church\, 89 Kimble Hill Road\, Williamsport\, 17701\, United States
ATTACH;FMTTYPE=image/jpeg:https://pocofarmroadchurch.b-cdn.net/wp-content/uploads/2024/03/zoom-praryer-meeting.jpg
END:VEVENT
BEGIN:VEVENT
DTSTART;TZID=America/New_York:20241022T183000
DTEND;TZID=America/New_York:20241022T200000
DTSTAMP:20260420T093853
CREATED:20240821T135031Z
LAST-MODIFIED:20240903T182802Z
UID:30001329-1729621800-1729627200@pocofarmroadchurch.org
SUMMARY:Ladies Gathering
DESCRIPTION:Ladies of all ages are invited to join us at PFRC. We bring snacks and have a discussion topic or two as a way to facilitate getting to know each other better.
URL:https://pocofarmroadchurch.org/event/ladies-gathering-2/
LOCATION:Poco Farm Road Church\, 89 Kimble Hill Road\, Williamsport\, 17701\, United States
ATTACH;FMTTYPE=image/jpeg:https://pocofarmroadchurch.b-cdn.net/wp-content/uploads/2024/08/Ladies-sofa.jpg
ORGANIZER;CN="Sue Opdahl":MAILTO:fellowship@pocofarmroadchurch.org
END:VEVENT
BEGIN:VEVENT
DTSTART;TZID=America/New_York:20241020T090000
DTEND;TZID=America/New_York:20241020T100000
DTSTAMP:20260420T093853
CREATED:20240222T172203Z
LAST-MODIFIED:20240807T193718Z
UID:30000035-1729414800-1729418400@pocofarmroadchurch.org
SUMMARY:Foundations Class
DESCRIPTION:Foundations meets every Sunday morning.
URL:https://pocofarmroadchurch.org/event/foundations-class/2024-10-20/
LOCATION:Poco Farm Road Church\, 89 Kimble Hill Road\, Williamsport\, 17701\, United States
ATTACH;FMTTYPE=image/jpeg:https://pocofarmroadchurch.b-cdn.net/wp-content/uploads/2024/02/DSC_0088-scaled.jpg
END:VEVENT
BEGIN:VEVENT
DTSTART;TZID=America/New_York:20241016T183000
DTEND;TZID=America/New_York:20241016T193000
DTSTAMP:20260420T093853
CREATED:20240829T165502Z
LAST-MODIFIED:20240829T165502Z
UID:30000355-1729103400-1729107000@pocofarmroadchurch.org
SUMMARY:Prayer Meeting
DESCRIPTION:We are currently meeting through Zoom for our Wednesday night prayer meeting. For information about how to join\, please contact the church office at office@pocofarmroadchurch.org.
URL:https://pocofarmroadchurch.org/event/prayer-meeting-2-2/2024-10-16/
LOCATION:Poco Farm Road Church\, 89 Kimble Hill Road\, Williamsport\, 17701\, United States
ATTACH;FMTTYPE=image/jpeg:https://pocofarmroadchurch.b-cdn.net/wp-content/uploads/2024/03/zoom-praryer-meeting.jpg
END:VEVENT
BEGIN:VEVENT
DTSTART;TZID=America/New_York:20241013T090000
DTEND;TZID=America/New_York:20241013T100000
DTSTAMP:20260420T093853
CREATED:20240222T172203Z
LAST-MODIFIED:20240807T193718Z
UID:30000034-1728810000-1728813600@pocofarmroadchurch.org
SUMMARY:Foundations Class
DESCRIPTION:Foundations meets every Sunday morning.
URL:https://pocofarmroadchurch.org/event/foundations-class/2024-10-13/
LOCATION:Poco Farm Road Church\, 89 Kimble Hill Road\, Williamsport\, 17701\, United States
ATTACH;FMTTYPE=image/jpeg:https://pocofarmroadchurch.b-cdn.net/wp-content/uploads/2024/02/DSC_0088-scaled.jpg
END:VEVENT
BEGIN:VEVENT
DTSTART;TZID=America/New_York:20241009T183000
DTEND;TZID=America/New_York:20241009T193000
DTSTAMP:20260420T093853
CREATED:20240829T165502Z
LAST-MODIFIED:20240829T165502Z
UID:30000354-1728498600-1728502200@pocofarmroadchurch.org
SUMMARY:Prayer Meeting
DESCRIPTION:We are currently meeting through Zoom for our Wednesday night prayer meeting. For information about how to join\, please contact the church office at office@pocofarmroadchurch.org.
URL:https://pocofarmroadchurch.org/event/prayer-meeting-2-2/2024-10-09/
LOCATION:Poco Farm Road Church\, 89 Kimble Hill Road\, Williamsport\, 17701\, United States
ATTACH;FMTTYPE=image/jpeg:https://pocofarmroadchurch.b-cdn.net/wp-content/uploads/2024/03/zoom-praryer-meeting.jpg
END:VEVENT
BEGIN:VEVENT
DTSTART;TZID=America/New_York:20241006T090000
DTEND;TZID=America/New_York:20241006T100000
DTSTAMP:20260420T093853
CREATED:20240222T172203Z
LAST-MODIFIED:20240807T193718Z
UID:30000033-1728205200-1728208800@pocofarmroadchurch.org
SUMMARY:Foundations Class
DESCRIPTION:Foundations meets every Sunday morning.
URL:https://pocofarmroadchurch.org/event/foundations-class/2024-10-06/
LOCATION:Poco Farm Road Church\, 89 Kimble Hill Road\, Williamsport\, 17701\, United States
ATTACH;FMTTYPE=image/jpeg:https://pocofarmroadchurch.b-cdn.net/wp-content/uploads/2024/02/DSC_0088-scaled.jpg
END:VEVENT
BEGIN:VEVENT
DTSTART;TZID=America/New_York:20241002T183000
DTEND;TZID=America/New_York:20241002T193000
DTSTAMP:20260420T093853
CREATED:20240829T165502Z
LAST-MODIFIED:20240829T165502Z
UID:30000353-1727893800-1727897400@pocofarmroadchurch.org
SUMMARY:Prayer Meeting
DESCRIPTION:We are currently meeting through Zoom for our Wednesday night prayer meeting. For information about how to join\, please contact the church office at office@pocofarmroadchurch.org.
URL:https://pocofarmroadchurch.org/event/prayer-meeting-2-2/2024-10-02/
LOCATION:Poco Farm Road Church\, 89 Kimble Hill Road\, Williamsport\, 17701\, United States
ATTACH;FMTTYPE=image/jpeg:https://pocofarmroadchurch.b-cdn.net/wp-content/uploads/2024/03/zoom-praryer-meeting.jpg
END:VEVENT
BEGIN:VEVENT
DTSTART;TZID=America/New_York:20240929T090000
DTEND;TZID=America/New_York:20240929T100000
DTSTAMP:20260420T093853
CREATED:20240222T172203Z
LAST-MODIFIED:20240807T193718Z
UID:30000032-1727600400-1727604000@pocofarmroadchurch.org
SUMMARY:Foundations Class
DESCRIPTION:Foundations meets every Sunday morning.
URL:https://pocofarmroadchurch.org/event/foundations-class/2024-09-29/
LOCATION:Poco Farm Road Church\, 89 Kimble Hill Road\, Williamsport\, 17701\, United States
ATTACH;FMTTYPE=image/jpeg:https://pocofarmroadchurch.b-cdn.net/wp-content/uploads/2024/02/DSC_0088-scaled.jpg
END:VEVENT
BEGIN:VEVENT
DTSTART;TZID=America/New_York:20240925T183000
DTEND;TZID=America/New_York:20240925T193000
DTSTAMP:20260420T093854
CREATED:20240829T165502Z
LAST-MODIFIED:20240829T165502Z
UID:30000352-1727289000-1727292600@pocofarmroadchurch.org
SUMMARY:Prayer Meeting
DESCRIPTION:We are currently meeting through Zoom for our Wednesday night prayer meeting. For information about how to join\, please contact the church office at office@pocofarmroadchurch.org.
URL:https://pocofarmroadchurch.org/event/prayer-meeting-2-2/2024-09-25/
LOCATION:Poco Farm Road Church\, 89 Kimble Hill Road\, Williamsport\, 17701\, United States
ATTACH;FMTTYPE=image/jpeg:https://pocofarmroadchurch.b-cdn.net/wp-content/uploads/2024/03/zoom-praryer-meeting.jpg
END:VEVENT
BEGIN:VEVENT
DTSTART;TZID=America/New_York:20240922T090000
DTEND;TZID=America/New_York:20240922T100000
DTSTAMP:20260420T093854
CREATED:20240222T172203Z
LAST-MODIFIED:20240807T193718Z
UID:30000683-1726995600-1726999200@pocofarmroadchurch.org
SUMMARY:Foundations Class
DESCRIPTION:Foundations meets every Sunday morning.
URL:https://pocofarmroadchurch.org/event/foundations-class/2024-09-22/
LOCATION:Poco Farm Road Church\, 89 Kimble Hill Road\, Williamsport\, 17701\, United States
ATTACH;FMTTYPE=image/jpeg:https://pocofarmroadchurch.b-cdn.net/wp-content/uploads/2024/02/DSC_0088-scaled.jpg
END:VEVENT
BEGIN:VEVENT
DTSTART;TZID=America/New_York:20240918T183000
DTEND;TZID=America/New_York:20240918T193000
DTSTAMP:20260420T093854
CREATED:20240829T165502Z
LAST-MODIFIED:20240829T165502Z
UID:30000351-1726684200-1726687800@pocofarmroadchurch.org
SUMMARY:Prayer Meeting
DESCRIPTION:We are currently meeting through Zoom for our Wednesday night prayer meeting. For information about how to join\, please contact the church office at office@pocofarmroadchurch.org.
URL:https://pocofarmroadchurch.org/event/prayer-meeting-2-2/2024-09-18/
LOCATION:Poco Farm Road Church\, 89 Kimble Hill Road\, Williamsport\, 17701\, United States
ATTACH;FMTTYPE=image/jpeg:https://pocofarmroadchurch.b-cdn.net/wp-content/uploads/2024/03/zoom-praryer-meeting.jpg
END:VEVENT
BEGIN:VEVENT
DTSTART;TZID=America/New_York:20240915T090000
DTEND;TZID=America/New_York:20240915T100000
DTSTAMP:20260420T093854
CREATED:20240807T194339Z
LAST-MODIFIED:20240807T194339Z
UID:30001197-1726390800-1726394400@pocofarmroadchurch.org
SUMMARY:Foundations Class
DESCRIPTION:Foundations meets every Sunday morning.
URL:https://pocofarmroadchurch.org/event/foundations-class-7/
LOCATION:Poco Farm Road Church\, 89 Kimble Hill Road\, Williamsport\, 17701\, United States
ATTACH;FMTTYPE=image/jpeg:https://pocofarmroadchurch.b-cdn.net/wp-content/uploads/2024/02/DSC_0088-scaled.jpg
END:VEVENT
BEGIN:VEVENT
DTSTART;TZID=America/New_York:20240911T183000
DTEND;TZID=America/New_York:20240911T193000
DTSTAMP:20260420T093854
CREATED:20240829T165502Z
LAST-MODIFIED:20240829T165502Z
UID:30000350-1726079400-1726083000@pocofarmroadchurch.org
SUMMARY:Prayer Meeting
DESCRIPTION:We are currently meeting through Zoom for our Wednesday night prayer meeting. For information about how to join\, please contact the church office at office@pocofarmroadchurch.org.
URL:https://pocofarmroadchurch.org/event/prayer-meeting-2-2/2024-09-11/
LOCATION:Poco Farm Road Church\, 89 Kimble Hill Road\, Williamsport\, 17701\, United States
ATTACH;FMTTYPE=image/jpeg:https://pocofarmroadchurch.b-cdn.net/wp-content/uploads/2024/03/zoom-praryer-meeting.jpg
END:VEVENT
BEGIN:VEVENT
DTSTART;TZID=America/New_York:20240908T090000
DTEND;TZID=America/New_York:20240908T100000
DTSTAMP:20260420T093854
CREATED:20240807T194319Z
LAST-MODIFIED:20240807T194319Z
UID:30001196-1725786000-1725789600@pocofarmroadchurch.org
SUMMARY:Foundations Class
DESCRIPTION:Foundations meets every Sunday morning.
URL:https://pocofarmroadchurch.org/event/foundations-class-6/
LOCATION:Poco Farm Road Church\, 89 Kimble Hill Road\, Williamsport\, 17701\, United States
ATTACH;FMTTYPE=image/jpeg:https://pocofarmroadchurch.b-cdn.net/wp-content/uploads/2024/02/DSC_0088-scaled.jpg
END:VEVENT
BEGIN:VEVENT
DTSTART;TZID=America/New_York:20240904T183000
DTEND;TZID=America/New_York:20240904T193000
DTSTAMP:20260420T093854
CREATED:20240829T165502Z
LAST-MODIFIED:20240829T165502Z
UID:30000349-1725474600-1725478200@pocofarmroadchurch.org
SUMMARY:Prayer Meeting
DESCRIPTION:We are currently meeting through Zoom for our Wednesday night prayer meeting. For information about how to join\, please contact the church office at office@pocofarmroadchurch.org.
URL:https://pocofarmroadchurch.org/event/prayer-meeting-2-2/2024-09-04/
LOCATION:Poco Farm Road Church\, 89 Kimble Hill Road\, Williamsport\, 17701\, United States
ATTACH;FMTTYPE=image/jpeg:https://pocofarmroadchurch.b-cdn.net/wp-content/uploads/2024/03/zoom-praryer-meeting.jpg
END:VEVENT
BEGIN:VEVENT
DTSTART;TZID=America/New_York:20240901T090000
DTEND;TZID=America/New_York:20240901T100000
DTSTAMP:20260420T093854
CREATED:20240807T194306Z
LAST-MODIFIED:20240808T170211Z
UID:30001195-1725181200-1725184800@pocofarmroadchurch.org
SUMMARY:Foundations Class
DESCRIPTION:Our Adult Sunday School is currently doing an inductive Bible Study on the book of 1 John. After Labor Day\, we will begin a new study.
URL:https://pocofarmroadchurch.org/event/foundations-class-5/
LOCATION:Poco Farm Road Church\, 89 Kimble Hill Road\, Williamsport\, 17701\, United States
ATTACH;FMTTYPE=image/jpeg:https://pocofarmroadchurch.b-cdn.net/wp-content/uploads/2024/02/DSC_0088-scaled.jpg
END:VEVENT
BEGIN:VEVENT
DTSTART;TZID=America/New_York:20240828T183000
DTEND;TZID=America/New_York:20240828T193000
DTSTAMP:20260420T093854
CREATED:20240808T160502Z
LAST-MODIFIED:20240808T161118Z
UID:30000348-1724869800-1724873400@pocofarmroadchurch.org
SUMMARY:Prayer Meeting
DESCRIPTION:We are currently meeting at the church at 6:30p on Wednesdays. We will probably switch back to Zoom meetings after the time change.
URL:https://pocofarmroadchurch.org/event/prayer-meeting-2/2024-08-28/
LOCATION:Poco Farm Road Church\, 89 Kimble Hill Road\, Williamsport\, 17701\, United States
ATTACH;FMTTYPE=image/jpeg:https://pocofarmroadchurch.b-cdn.net/wp-content/uploads/2024/03/zoom-praryer-meeting.jpg
END:VEVENT
BEGIN:VEVENT
DTSTART;TZID=America/New_York:20240825T090000
DTEND;TZID=America/New_York:20240825T100000
DTSTAMP:20260420T093854
CREATED:20240807T194224Z
LAST-MODIFIED:20240807T194224Z
UID:30001194-1724576400-1724580000@pocofarmroadchurch.org
SUMMARY:Foundations Class
DESCRIPTION:Foundations meets every Sunday morning.
URL:https://pocofarmroadchurch.org/event/foundations-class-4/
LOCATION:Poco Farm Road Church\, 89 Kimble Hill Road\, Williamsport\, 17701\, United States
ATTACH;FMTTYPE=image/jpeg:https://pocofarmroadchurch.b-cdn.net/wp-content/uploads/2024/02/DSC_0088-scaled.jpg
END:VEVENT
BEGIN:VEVENT
DTSTART;TZID=America/New_York:20240821T183000
DTEND;TZID=America/New_York:20240821T193000
DTSTAMP:20260420T093854
CREATED:20240808T160502Z
LAST-MODIFIED:20240808T161118Z
UID:30000347-1724265000-1724268600@pocofarmroadchurch.org
SUMMARY:Prayer Meeting
DESCRIPTION:We are currently meeting at the church at 6:30p on Wednesdays. We will probably switch back to Zoom meetings after the time change.
URL:https://pocofarmroadchurch.org/event/prayer-meeting-2/2024-08-21/
LOCATION:Poco Farm Road Church\, 89 Kimble Hill Road\, Williamsport\, 17701\, United States
ATTACH;FMTTYPE=image/jpeg:https://pocofarmroadchurch.b-cdn.net/wp-content/uploads/2024/03/zoom-praryer-meeting.jpg
END:VEVENT
BEGIN:VEVENT
DTSTART;TZID=America/New_York:20240818T090000
DTEND;TZID=America/New_York:20240818T100000
DTSTAMP:20260420T093854
CREATED:20240807T194159Z
LAST-MODIFIED:20240808T162036Z
UID:30000939-1723971600-1723975200@pocofarmroadchurch.org
SUMMARY:Foundations Class
DESCRIPTION:Our Adult Sunday School is currently doing an inductive Bible Study on the book of 1 John. After Labor Day\, we will begin a new study.
URL:https://pocofarmroadchurch.org/event/foundations-class-3/
LOCATION:Poco Farm Road Church\, 89 Kimble Hill Road\, Williamsport\, 17701\, United States
ATTACH;FMTTYPE=image/jpeg:https://pocofarmroadchurch.b-cdn.net/wp-content/uploads/2024/02/DSC_0088-scaled.jpg
END:VEVENT
BEGIN:VEVENT
DTSTART;TZID=America/New_York:20240814T183000
DTEND;TZID=America/New_York:20240814T193000
DTSTAMP:20260420T093854
CREATED:20240808T160502Z
LAST-MODIFIED:20240808T161118Z
UID:30000346-1723660200-1723663800@pocofarmroadchurch.org
SUMMARY:Prayer Meeting
DESCRIPTION:We are currently meeting at the church at 6:30p on Wednesdays. We will probably switch back to Zoom meetings after the time change.
URL:https://pocofarmroadchurch.org/event/prayer-meeting-2/2024-08-14/
LOCATION:Poco Farm Road Church\, 89 Kimble Hill Road\, Williamsport\, 17701\, United States
ATTACH;FMTTYPE=image/jpeg:https://pocofarmroadchurch.b-cdn.net/wp-content/uploads/2024/03/zoom-praryer-meeting.jpg
END:VEVENT
BEGIN:VEVENT
DTSTART;TZID=America/New_York:20240811T090000
DTEND;TZID=America/New_York:20240811T100000
DTSTAMP:20260420T093854
CREATED:20240807T194044Z
LAST-MODIFIED:20240808T161303Z
UID:30000684-1723366800-1723370400@pocofarmroadchurch.org
SUMMARY:Foundations Class
DESCRIPTION:Our Adult Sunday School is currently doing an inductive Bible Study on the book of 1 John. After Labor Day\, we will begin a new study.
URL:https://pocofarmroadchurch.org/event/foundations-class-2/
LOCATION:Poco Farm Road Church\, 89 Kimble Hill Road\, Williamsport\, 17701\, United States
ATTACH;FMTTYPE=image/jpeg:https://pocofarmroadchurch.b-cdn.net/wp-content/uploads/2024/02/DSC_0088-scaled.jpg
END:VEVENT
BEGIN:VEVENT
DTSTART;TZID=America/New_York:20240530T183000
DTEND;TZID=America/New_York:20240530T203000
DTSTAMP:20260420T093854
CREATED:20240424T152807Z
LAST-MODIFIED:20240424T152807Z
UID:30000264-1717093800-1717101000@pocofarmroadchurch.org
SUMMARY:ECLC Program with PreK Graduation
DESCRIPTION:
URL:https://pocofarmroadchurch.org/event/eclc-program-with-prek-graduation/
LOCATION:Poco Farm Road Church\, 89 Kimble Hill Road\, Williamsport\, 17701\, United States
ATTACH;FMTTYPE=image/jpeg:https://pocofarmroadchurch.b-cdn.net/wp-content/uploads/2024/04/prek-graduation.jpg
END:VEVENT
BEGIN:VEVENT
DTSTART;VALUE=DATE:20240511
DTEND;VALUE=DATE:20240512
DTSTAMP:20260420T093854
CREATED:20240424T152537Z
LAST-MODIFIED:20240424T152635Z
UID:30000263-1715385600-1715471999@pocofarmroadchurch.org
SUMMARY:Spring Work Day
DESCRIPTION:
URL:https://pocofarmroadchurch.org/event/spring-work-day/
LOCATION:Poco Farm Road Church\, 89 Kimble Hill Road\, Williamsport\, 17701\, United States
ATTACH;FMTTYPE=image/jpeg:https://pocofarmroadchurch.b-cdn.net/wp-content/uploads/2024/04/spring-work-day.jpg
END:VEVENT
BEGIN:VEVENT
DTSTART;TZID=America/New_York:20240510T063000
DTEND;TZID=America/New_York:20240510T090000
DTSTAMP:20260420T093854
CREATED:20240424T152142Z
LAST-MODIFIED:20240521T182446Z
UID:30000262-1715322600-1715331600@pocofarmroadchurch.org
SUMMARY:Muffins with Mom
DESCRIPTION:Test
URL:https://pocofarmroadchurch.org/event/muffins-with-mom/
LOCATION:Poco Farm Road Church\, 89 Kimble Hill Road\, Williamsport\, 17701\, United States
ATTACH;FMTTYPE=image/jpeg:https://pocofarmroadchurch.b-cdn.net/wp-content/uploads/2024/04/muffins-with-mom.jpg
END:VEVENT
END:VCALENDAR